{"text_format":"1","workbook":"xlsx","n_sheets":11,"sheets":["手順書_はじめに","自動生成_地図データ","CHANGELOG","地図テンプレート_1","市町村データ","手順書_市町村なまえ","自動生成_市町村なまえ","手順書_人口密度","自動生成_人口密度","手順書_人口","自動生成_人口"],"not_rendered":{"charts":0,"images":9,"macros":1,"external_links":0,"defined_names":1,"comments":0,"pivot_tables":0},"unopened":[],"bounds":{"document_bytes":16777216,"sheet_cells":100000,"rows_first":2000,"rows_last":500,"rows_between":2000,"halvings":0,"cell_chars":16384,"cell_head_chars":4096},"cells_cut":0,"cells_raw":0,"read":"whole","date_system":"1900"}

{"sheet":"手順書_はじめに","index":0,"n_rows":144,"n_cols":32,"rows_kept":144,"cut":false,"hidden":false,"merged":[[61,6,61,15],[61,17,61,20],[59,6,59,15],[59,17,59,20],[63,6,63,15],[63,17,63,20],[65,6,65,15],[65,17,65,20],[67,6,67,15],[67,17,67,20],[69,6,69,15],[69,17,69,20],[77,6,77,15],[77,17,77,20],[71,6,71,15],[71,17,71,20],[73,6,73,15],[73,17,73,20],[75,6,75,15],[75,17,75,20]]}
[null,null,null,null,null,null,"C1.0",null,null,null,null,null,null,null,null,null,null,"C2.0",null,null,null,null,null,null,null,null,null,null,null,null,null,"EOL"]
[null,"ヒートマップ 3.0.1　＞　手順書　＞　はじめに"]
[]
[null,null,null,"このワークブックは？"]
[]
[]
[]
[]
[]
[]
[]
[]
[]
[]
[]
[]
[]
[]
[]
[]
[]
[null,null,null,null,null,"👆","いわゆるヒートマップですが、その地図の部分を編集できるようにしたツールです。"]
[null,null,null,null,null,null,"強くデフォルメした地図を用意できることで、現場での暗記力、判断速度を補うことを狙うものです。"]
[]
[]
[null,null,null,"手順１"]
[]
[]
[]
[]
[]
[]
[]
[]
[]
[]
[]
[]
[]
[]
[]
[]
[]
[]
[null,null,null,null,null,null,null,"［地図テンプレート_1］",null,null,null,null,null,"ワークシートを編集して地図をお絵描きしてください。"]
[]
[null,null,null,null,null,null,null,"このとき、"]
[null,null,null,null,null,null,null,null,null,null,1]
[null,null,null,null,null,null,null,"をコピー貼り付けして、非公式市区町村番号（InformalCityId）を任意に付けて置いていってください。背景色、文字色で認識します。"]
[]
[null,null,null,null,null,"内容は、既存のワークシートを参考にしてください。"]
[null,null,null,null,null,"ワークシートの _1 の部分を変えて最大１０シートまで対応することができます。"]
[]
[]
[null,null,null,"手順２"]
[]
[null,null,null,null,null,"👇","作った",null,"［地図テンプレート_n］",null,null,null,null,null,"ワークシートのシート名を入力してください。"]
[null,null,null,null,null,null,"１０件まで対応します。"]
[null,null,null,null,null,null,"ワークシート名",null,null,null,null,null,null,null,null,null,null,"範囲"]
["R1.1.0",null,null,null,null,1,"地図テンプレート_1",null,null,null,null,null,null,null,null,null,null,"A1:CB40"]
[null,null,null,null,null,null,"ワークシート名",null,null,null,null,null,null,null,null,null,null,"範囲"]
["R1.2.0",null,null,null,null,2,null,null,null,null,null,null,null,null,null,null,null,"A1:CD40"]
[null,null,null,null,null,null,"ワークシート名",null,null,null,null,null,null,null,null,null,null,"範囲"]
["R1.3.0",null,null,null,null,3]
[null,null,null,null,null,null,"ワークシート名",null,null,null,null,null,null,null,null,null,null,"範囲"]
["R1.4.0",null,null,null,null,4]
[null,null,null,null,null,null,"ワークシート名",null,null,null,null,null,null,null,null,null,null,"範囲"]
["R1.5.0",null,null,null,null,5]
[null,null,null,null,null,null,"ワークシート名",null,null,null,null,null,null,null,null,null,null,"範囲"]
["R1.6.0",null,null,null,null,6]
[null,null,null,null,null,null,"ワークシート名",null,null,null,null,null,null,null,null,null,null,"範囲"]
["R1.7.0",null,null,null,null,7]
[null,null,null,null,null,null,"ワークシート名",null,null,null,null,null,null,null,null,null,null,"範囲"]
["R1.8.0",null,null,null,null,8]
[null,null,null,null,null,null,"ワークシート名",null,null,null,null,null,null,null,null,null,null,"範囲"]
["R1.9.0",null,null,null,null,9]
[null,null,null,null,null,null,"ワークシート名",null,null,null,null,null,null,null,null,null,null,"範囲"]
["R1.10.0",null,null,null,null,10]
[]
[]
[null,null,null,"手順２"]
[]
[null,null,null,null,null,"👇","以下のボタンを押してください。"]
[]
[]
[]
[]
[]
[]
[]
[]
[]
[]
[]
[]
[]
[]
[]
[]
[]
[]
[]
[]
[null,null,null,null,null,null,null,"［自動生成_地図データ］",null,null,null,null,null,"ワークシートが自動生成されます。これは後でヒートマップを自動生成するときに使われます。"]
[]
[]
[null,null,null,"手順３"]
[]
[]
[]
[]
[]
[]
[]
[]
[]
[]
[]
[]
[]
[]
[null,null,null,null,null,null,null,"［市町村データ］",null,null,null,"ワークシートを頑張って入力してください。コピー貼り付けと手調整の能力が試されます。"]
[]
[null,null,null,null,null,"既存のワークシートを参考にしてください。"]
[]
[null,null,null,null,null,"TIPS",null,"この表は［なまえ］列で昇順ソートすると、［InformalCityId］を逆引きするのに便利です。"]
[]
[]
[null,null,null,"手順４"]
[]
[]
[]
[]
[]
[]
[]
[null,null,null,null,null,"引き続き、"]
[null,null,null,null,null,null,"■","［手順書_市町村なまえ］",null,null,null,null,null,"ワークシート"]
[null,null,null,null,null,null,"■","［手順書_人口密度］",null,null,null,null,"ワークシート"]
[null,null,null,null,null,null,"■","［手順書_人口］",null,null,null,"ワークシート"]
[null,null,null,null,null,"を読んでください。"]
[]
[null,"以上"]
["EOF"]

{"sheet":"自動生成_地図データ","index":1,"n_rows":48,"n_cols":2,"rows_kept":48,"cut":false,"hidden":false,"merged":[]}
["InformalCityId","セル"]
[1,"BO7"]
[11,"BC11"]
[7,"BG11"]
[4,"BK11"]
[2,"BO11"]
[35,"S15"]
[31,"W15"]
[27,"AE15"]
[25,"AI15"]
[22,"AM15"]
[19,"AQ15"]
[12,"BC15"]
[8,"BG15"]
[5,"BK15"]
[3,"BO15"]
[44,"G19"]
[40,"K19"]
[39,"O19"]
[36,"S19"]
[32,"W19"]
[30,"AA19"]
[28,"AE19"]
[26,"AI19"]
[23,"AM19"]
[20,"AQ19"]
[17,"AU19"]
[15,"AY19"]
[13,"BC19"]
[9,"BG19"]
[6,"BK19"]
[45,"G23"]
[41,"K23"]
[37,"S23"]
[33,"W23"]
[29,"AE23"]
[24,"AM23"]
[21,"AQ23"]
[18,"AU23"]
[16,"AY23"]
[14,"BC23"]
[10,"BG23"]
[46,"G27"]
[42,"K27"]
[38,"S27"]
[34,"W27"]
[47,"G31"]
[43,"K31"]

{"sheet":"CHANGELOG","index":2,"n_rows":2,"n_cols":4,"rows_kept":2,"cut":false,"hidden":false,"merged":[]}
["日付","バージョン","操作","概要"]
["2025-06-10T06:52:00","3.0.1","Changed","3.0.0 から［市町村データ］ワークシートの最終行を読み込まなくなっていた不具合を修正。\n［地図テンプレート］には市町村名も振るように運用を変更。"]

{"sheet":"地図テンプレート_1","index":3,"n_rows":41,"n_cols":71,"rows_kept":41,"cut":false,"hidden":false,"merged":[[17,38,17,41],[14,67,14,69],[15,18,15,21],[16,18,16,21],[17,18,17,21],[15,22,15,25],[16,22,16,25],[17,22,17,25],[15,66,15,69],[16,66,16,69],[17,66,17,69],[15,30,15,33],[16,30,16,33],[17,30,17,33],[15,54,15,57],[15,58,15,61],[14,19,14,21],[14,23,14,25],[14,31,14,33],[14,35,14,37],[14,39,14,41],[14,43,14,45],[20,42,20,45],[21,42,21,45],[18,43,18,45],[18,47,18,49],[18,51,18,53],[18,55,18,57],[18,59,18,61],[18,63,18,65],[19,54,19,57],[20,54,20,57],[21,54,21,57],[19,58,19,61],[20,58,20,61],[22,7,22,9],[23,6,23,9],[24,6,24,9],[25,6,25,9],[22,19,22,21],[23,18,23,21],[24,18,24,21],[25,18,25,21],[21,22,21,25],[22,11,22,13],[22,23,22,25],[23,10,23,13],[23,22,23,25],[24,10,24,13],[24,22,24,25],[25,10,25,13],[25,22,25,25],[21,10,21,13],[21,14,21,17],[22,31,22,33],[22,39,22,41],[22,47,22,49],[22,51,22,53],[22,55,22,57],[22,59,22,61],[22,43,22,45],[19,62,19,65],[20,62,20,65],[21,62,21,65],[19,46,19,49],[20,46,20,49],[21,46,21,49],[19,50,19,53],[20,50,20,53],[21,50,21,53],[21,58,21,61],[19,34,19,37],[20,34,20,37],[21,34,21,37],[19,38,19,41],[20,38,20,41],[21,38,21,41],[19,42,19,45],[23,30,23,33],[24,30,24,33],[25,30,25,33],[23,38,23,41],[24,38,24,41],[25,38,25,41],[23,58,23,61],[24,58,24,61],[25,58,25,61],[25,54,25,57],[23,42,23,45],[24,42,24,45],[25,42,25,45],[23,50,23,53],[24,50,24,53],[25,50,25,53],[23,46,23,49],[24,46,24,49],[25,46,25,49],[23,54,23,57],[24,54,24,57],[6,67,6,69],[7,66,7,69],[8,66,8,69],[9,66,9,69],[10,55,10,57],[10,59,10,61],[10,63,10,65],[10,67,10,69],[11,54,11,57],[11,58,11,61],[11,62,11,65],[11,66,11,69],[12,54,12,57],[12,58,12,61],[12,62,12,65],[12,66,12,69],[13,54,13,57],[13,58,13,61],[13,62,13,65],[13,66,13,69],[14,55,14,57],[14,59,14,61],[14,63,14,65],[15,62,15,65],[16,54,16,57],[16,58,16,61],[16,62,16,65],[17,54,17,57],[17,58,17,61],[17,62,17,65],[18,7,18,9],[18,19,18,21],[18,31,18,33],[18,35,18,37],[18,15,18,17],[18,11,18,13],[18,23,18,25],[18,27,18,29],[18,39,18,41],[15,42,15,45],[16,42,16,45],[17,42,17,45],[15,34,15,37],[16,34,16,37],[17,34,17,37],[15,38,15,41],[16,38,16,41],[19,6,19,9],[19,18,19,21],[19,30,19,33],[20,6,20,9],[20,18,20,21],[20,30,20,33],[21,6,21,9],[21,18,21,21],[21,30,21,33],[21,26,21,29],[19,10,19,13],[20,10,20,13],[19,14,19,17],[20,14,20,17],[19,22,19,25],[20,22,20,25],[19,26,19,29],[20,26,20,29],[31,6,31,9],[31,10,31,13],[32,6,32,9],[32,10,32,13],[33,6,33,9],[33,10,33,13],[26,11,26,13],[26,23,26,25],[27,10,27,13],[27,22,27,25],[28,10,28,13],[28,22,28,25],[29,10,29,13],[29,22,29,25],[30,7,30,9],[30,11,30,13],[26,7,26,9],[27,6,27,9],[28,6,28,9],[29,6,29,9],[26,19,26,21],[27,18,27,21],[28,18,28,21],[29,18,29,21]]}
[]
[]
[null,null,null,null,null,null,"あ",null,null,null,"い",null,null,null,"う",null,null,null,"え",null,null,null,"お",null,null,null,"か",null,null,null,"き",null,null,null,"く",null,null,null,"け",null,null,null,"こ",null,null,null,"さ",null,null,null,"し",null,null,null,"す",null,null,null,"せ",null,null,null,"そ",null,null,null,"た",null,null,null,"ち"]
[]
[]
[]
[null,null,"A",null,null,null,null,null,null,null,null,null,null,null,null,null,null,null,null,null,null,null,null,null,null,null,null,null,null,null,null,null,null,null,null,null,null,null,null,null,null,null,null,null,null,null,null,null,null,null,null,null,null,null,null,null,null,null,null,null,null,null,null,null,null,null,1,"北海道"]
[]
[]
[]
[null,null,"B",null,null,null,null,null,null,null,null,null,null,null,null,null,null,null,null,null,null,null,null,null,null,null,null,null,null,null,null,null,null,null,null,null,null,null,null,null,null,null,null,null,null,null,null,null,null,null,null,null,null,null,11,"新潟",null,null,7,"山形",null,null,4,"秋田",null,null,2,"青森"]
[]
[]
[]
[null,null,"C",null,null,null,null,null,null,null,null,null,null,null,null,null,null,null,35,"島根",null,null,31,"鳥取",null,null,null,null,null,null,27,"京都",null,null,25,"福井",null,null,22,"石川",null,null,19,"富山",null,null,null,null,null,null,null,null,null,null,12,"群馬",null,null,8,"福島",null,null,5,"宮城",null,null,3,"岩手"]
[]
[]
[]
[null,null,"D",null,null,null,44,"佐賀",null,null,40,"福岡",null,null,39,"山口",null,null,36,"広島",null,null,32,"岡山",null,null,30,"兵庫",null,null,28,"大阪",null,null,26,"奈良",null,null,23,"滋賀",null,null,20,"岐阜",null,null,17,"長野",null,null,15,"山梨",null,null,13,"埼玉",null,null,9,"栃木",null,null,6,"茨城"]
[]
[]
[]
[null,null,"E",null,null,null,45,"長崎",null,null,41,"大分",null,null,null,null,null,null,37,"愛媛",null,null,33,"香川",null,null,null,null,null,null,29,"和歌山",null,null,null,null,null,null,24,"三重",null,null,21,"愛知",null,null,18,"静岡",null,null,16,"神奈川",null,null,14,"東京",null,null,10,"千葉"]
[]
[]
[]
[null,null,"F",null,null,null,46,"熊本",null,null,42,"宮崎",null,null,null,null,null,null,38,"高知",null,null,34,"徳島"]
[]
[]
[]
[null,null,"G",null,null,null,47,"沖縄",null,null,43,"鹿児島"]
[]
[]
[]
[null,null,"H"]
[]
[]
[null,"［国勢調査］＞［令和２年国勢調査（総務省統計局）　都道府県・市区町村別の主な結果］"]
[null,"https://www.e-stat.go.jp/stat-search/files?page=1&layout=datalist&toukei=00200521&tstat=000001049104&cycle=0&tclass1=000001049105&tclass2val=0"]
[]
["黄色いラインは転写範囲の外側です。"]

{"sheet":"市町村データ","index":4,"n_rows":48,"n_cols":50,"rows_kept":48,"cut":false,"hidden":false,"merged":[]}
["InformalCityId","都道府県・市区町村名","名前","なまえ","都道府県・市区町村名（英語）","人口（人）","男（人）","女（人）","2015年（平成27年）の人口（組替）（人）","5年間の人口増減数（人）","5年間の人口増減率（％）","面積（km2）","人口密度（人/km2）","平均年齢（歳）","年齢中位数（歳）","15歳未満（人）","15～64歳（人）","65歳以上（人）","15歳未満（％）","15～64歳（％）","65歳以上（％）","15歳未満（人）","15～64歳（人）","65歳以上（人）","15歳未満（％）","15～64歳（％）","65歳以上（％）","15歳未満（人）","15～64歳（人）","65歳以上（人）","15歳未満（％）","15～64歳（％）","65歳以上（％）","人口性比","日本人（人）","外国人（人）","総世帯（世帯）","一般世帯（世帯）","施設等の世帯（世帯）","2015年（平成27年）の世帯数（組替）（世帯）","一般世帯（世帯）","うち核家族世帯（世帯）","夫婦のみの世帯（世帯）","夫婦と子供から成る世帯（世帯）","男親と子供から成る世帯（世帯）","女親と子供から成る世帯（世帯）","うち単独世帯（世帯）","うち65歳以上の単独世帯（世帯）","（再掲）夫65歳以上，妻60歳以上の夫婦のみの世帯（世帯）","（再掲）3世代世帯（世帯）"]
[1,"01000_北海道","北海道","ほっかいどう","Hokkaido",5224614,2465088,2759526,5381733,-157119,-2.9194900000000001,83424.44,66.599999999999994,49.782380000000003,51.342840000000002,556526,2988800,1679288,10.651999999999999,57.206139999999998,32.141860000000001,284897,1477750,702441,11.55728,59.947150000000001,28.49558,271629,1511050,976847,9.8433200000000003,54.75759,35.399090000000001,89.330119999999994,5188441,36173,2476846,2469063,7783,2444810,2469063,1324406,584819,511571,29921,198095,999825,361735,345741,59601]
[2,"02000_青森県","青森","あおもり","Aomori-ken",1237984,583402,654582,1308265,-70281,-5.3720800000000004,9645.64,128.30000000000001,50.82694,53.353180000000002,130259,689910,417815,10.52186,55.72851,33.749630000000003,66483,345000,171919,11.39574,59.135899999999999,29.468360000000001,63776,344910,245896,9.7430099999999999,52.69164,37.565350000000002,89.125879999999995,1232227,5757,511526,509649,1877,510945,509649,268760,100962,109399,7734,50665,168917,71752,60995,42895]
[3,"03000_岩手県","岩手","いわて","Iwate-ken",1210534,582952,627582,1279594,-69060,-5.3970200000000004,15275.01,79.2,50.58634,52.862119999999997,132735,670784,407015,10.965,55.412239999999997,33.62276,67919,342813,172220,11.650869999999999,58.80639,29.542739999999998,64816,327971,234795,10.32789,52.25947,37.412640000000003,92.888580000000005,1203203,7331,492436,490828,1608,493049,490828,252005,94910,105474,7549,44072,163290,62424,57656,46934]
[5,"04000_宮城県","宮城","みやぎ","Miyagi-ken",2301996,1122598,1179398,2333899,-31903,-1.36694,7282.29,316.10000000000002,47.426729999999999,48.133670000000002,268931,1385425,647640,11.682510000000001,60.183639999999997,28.133849999999999,137916,701792,282890,12.28543,62.514989999999997,25.199580000000001,131015,683633,364750,11.10863,57.964570000000002,30.92679,95.183980000000005,2280203,21793,982523,980549,1974,944720,980549,507063,181038,234787,13068,78170,362255,97239,102638,67505]
[4,"05000_秋田県","秋田","あきた","Akita-ken",959502,452439,507063,1023119,-63617,-6.2179500000000001,11637.52,82.4,52.899279999999997,56.449660000000002,92855,506960,359687,9.6774199999999997,52.835740000000001,37.486840000000001,47526,255856,149057,10.5044,56.55039,32.945210000000003,45329,251104,210630,8.9395199999999999,49.521259999999998,41.53922,89.227369999999993,955659,3843,385187,383531,1656,388560,383531,203177,81772,81097,5755,34553,117169,55437,52719,39453]
[7,"06000_山形県","山形","やまがた","Yamagata-ken",1068027,516438,551589,1123891,-55864,-4.9705899999999996,9323.15,114.6,50.484909999999999,52.824240000000003,120271,586578,361178,11.261039999999999,54.92165,33.817309999999999,61700,298506,156232,11.94722,57.800939999999997,30.251840000000001,58571,288072,204946,10.618589999999999,52.225839999999998,37.155560000000001,93.627319999999997,1060586,7441,398015,396792,1223,393396,396792,202342,75330,89321,5814,31877,112791,43451,47618,55238]
[8,"07000_福島県","福島","ふくしま","Fukushima-ken",1833152,903864,929288,1914039,-80887,-4.2259799999999998,13784.14,133,49.522860000000001,51.532330000000002,206993,1045887,580272,11.291639999999999,57.054020000000001,31.654330000000002,105826,543951,254087,11.70818,60.180619999999998,28.1112,101167,501936,326185,10.886509999999999,54.01296,35.100529999999999,97.264139999999998,1819085,14067,742911,740089,2822,737598,740089,384082,142632,168068,11393,61989,245335,87168,86303,69042]
[6,"08000_茨城県","茨城","いばらぎ","Ibaraki-ken",2867009,1430976,1436033,2916976,-49967,-1.7129700000000001,6097.39,470.2,48.154789999999998,49.330950000000001,334614,1681662,850733,11.671189999999999,58.655619999999999,29.673190000000002,171619,875622,383735,11.99314,61.190539999999999,26.816310000000001,162995,806040,466998,11.35037,56.129629999999999,32.520000000000003,99.647850000000005,2801640,65369,1184133,1181598,2535,1124349,1181598,664239,245778,308921,18395,91145,385760,125596,149952,80078]
[9,"09000_栃木県","栃木","とちぎ","Tochigi-ken",1933146,964930,968216,1974255,-41109,-2.0822500000000002,6408.09,301.7,47.950760000000002,49.017530000000001,228224,1142706,562216,11.80583,59.11121,29.08296,117603,595117,252210,12.187720000000001,61.674630000000001,26.137650000000001,110621,547589,310006,11.425240000000001,56.556489999999997,32.018270000000001,99.660610000000005,1891396,41750,796923,795449,1474,763097,795449,439807,158484,207956,12370,60997,261757,85355,92717,56778]
[12,"10000_群馬県","群馬","ぐんま","Gumma-ken",1939110,959411,979699,1973115,-34005,-1.72342,6362.28,304.8,48.391919999999999,49.556319999999999,226573,1127799,584738,11.684380000000001,58.160649999999997,30.154969999999999,116058,583309,260044,12.0968,60.798659999999998,27.10455,110515,544490,324694,11.28051,55.577269999999999,33.142220000000002,97.929159999999996,1879820,59290,805252,803215,2037,773952,803215,462667,168709,219169,12408,62381,260100,93993,103437,43722]
[13,"11000_埼玉県","埼玉","さいたま","Saitama-ken",7344765,3652169,3692596,7266534,78231,1.0765899999999999,3797.75,1934,46.837260000000001,47.726059999999997,872859,4488130,1983776,11.8841,61.106520000000003,27.00939,446651,2310824,894694,12.229749999999999,63.272649999999999,24.497610000000002,426208,2177306,1089082,11.54223,58.964100000000002,29.493670000000002,98.905190000000005,7159087,185678,3162743,3157627,5116,2971659,3157627,1849525,650271,911592,47929,239733,1072139,332963,376464,105717]
[10,"12000_千葉県","千葉","ちば","Chiba-ken",6284480,3117987,3166493,6222666,61814,0.99336999999999998,5157.57,1218.5,47.135019999999997,47.982770000000002,736623,3813987,1733870,11.721299999999999,60.688980000000001,27.58971,377749,1962763,777475,12.115159999999999,62.949689999999997,24.93516,358874,1851224,956395,11.33348,58.462910000000001,30.203600000000002,98.468149999999994,6122205,162275,2773840,2767661,6179,2609132,2767661,1572544,572435,755321,39564,205224,1003440,299889,335025,95699]
[14,"13000_東京都","東京","とうきょう","Tokyo-to",14047594,6898388,7149206,13515272,532322,3.9386700000000001,2194.0300000000002,6402.6,45.25253,45.114109999999997,1568415,9284428,3194751,11.165010000000001,66.092659999999995,22.742339999999999,802651,4714667,1381070,11.635339999999999,68.344470000000001,20.02018,765764,4569761,1813681,10.711180000000001,63.919840000000001,25.36899,96.491669999999999,13484028,563566,7227180,7216650,10530,6701123,7216650,3299649,1185040,1588460,76177,449972,3625810,811408,564594,97110]
[16,"14000_神奈川県","神奈川","かながわ","Kanagawa-ken",9237337,4588268,4649069,9126213,111124,1.2176400000000001,2416.11,3823.2,46.480809999999998,47.327289999999998,1086468,5790049,2360820,11.761699999999999,62.680929999999996,25.557369999999999,556916,2985490,1045862,12.137829999999999,65.067909999999998,22.794270000000001,529552,2804559,1314958,11.390499999999999,60.32517,28.284330000000001,98.692189999999997,9006608,230729,4223706,4210122,13584,3979277,4210122,2350377,843850,1154510,54961,297056,1650991,459724,460516,93407]
[11,"15000_新潟県","新潟","にいがた","Niigata-ken",2201272,1068670,1132602,2304264,-102992,-4.4696300000000004,12583.96,174.9,49.917340000000003,51.648350000000001,247924,1232070,721278,11.26276,55.970820000000003,32.766419999999997,127131,629444,312095,11.896190000000001,58.899749999999997,29.204059999999998,120793,602626,409183,10.665089999999999,53.20722,36.127699999999997,94.3553,2185171,16101,864750,862796,1954,848150,862796,459787,169203,207861,12778,69945,266182,98746,105469,90547]
[19,"16000_富山県","富山","とやま","Toyama-ken",1034814,502637,532177,1066328,-31514,-2.9553799999999999,4247.58,243.6,49.664879999999997,50.889650000000003,116346,581617,336851,11.243180000000001,56.204979999999999,32.551839999999999,59917,299133,143587,11.920529999999999,59.512729999999998,28.566739999999999,56429,282484,193264,10.603429999999999,53.080840000000002,36.315739999999998,94.449219999999997,1017321,17493,403989,403007,982,391171,403007,220136,79713,103168,5676,31579,119523,46175,50694,40632]
[22,"17000_石川県","石川","いしかわ","Ishikawa-ken",1132526,549771,582755,1154008,-21482,-1.86151,4186.21,270.5,47.90963,48.872140000000002,137365,657990,337171,12.12908,58.099330000000002,29.77159,70265,334930,144576,12.78078,60.921729999999997,26.29749,67100,323060,192595,11.51427,55.436680000000003,33.049050000000001,94.33999,1117364,15162,469910,468835,1075,453368,468835,255131,94895,119723,5890,34623,162531,52169,59024,31185]
[25,"18000_福井県","福井","ふくい","Fukui-ken",766863,373973,392890,786740,-19877,-2.5265,4190.5200000000004,183,48.489049999999999,49.79889,95809,436121,234933,12.49363,56.870780000000003,30.635590000000001,49261,222953,101759,13.17234,59.61741,27.210249999999998,46548,213168,133174,11.84759,54.256410000000002,33.896000000000001,95.185169999999999,752018,14845,291662,290692,970,279687,290692,155501,56546,72909,4015,22031,86282,31367,35264,33388]
[15,"19000_山梨県","山梨","やまなし","Yamanashi-ken",809974,397309,412665,834930,-24956,-2.9889899999999998,4465.2700000000004,181.4,48.9983,50.767589999999998,92723,467443,249808,11.447649999999999,57.710859999999997,30.841480000000001,47326,239956,110027,11.91164,60.395310000000002,27.693059999999999,45397,227487,139781,11.00093,55.126309999999997,33.872750000000003,96.278819999999996,794358,15616,338853,338057,796,330976,338057,191669,73487,86374,4904,26904,110192,42105,45196,20205]
[17,"20000_長野県","長野","ながの","Nagano-ken",2048011,1000389,1047622,2098804,-50793,-2.4200900000000001,13561.56,151,49.449739999999998,50.885919999999999,245285,1148164,654562,11.976739999999999,56.062390000000001,31.96086,125595,586672,288122,12.55462,58.644390000000001,28.800999999999998,119690,561492,366440,11.42492,53.596809999999998,34.978270000000002,95.491410000000002,2013539,34472,832097,829979,2118,807108,829979,465774,182389,208863,11764,62758,257508,96359,112936,63295]
[20,"21000_岐阜県","岐阜","ぎふ","Gifu-ken",1978742,960436,1018306,2031903,-53161,-2.61632,10621.29,186.3,48.35322,49.708350000000003,242504,1133872,602366,12.255459999999999,57.302669999999999,30.441870000000002,124238,571611,264587,12.93558,59.515779999999999,27.548629999999999,118266,562261,337779,11.613989999999999,55.215330000000002,33.170679999999997,94.317030000000003,1924681,54061,780730,779029,1701,753212,779029,446358,165701,211754,10754,58149,228715,85160,107033,64159]
[18,"22000_静岡県","静岡","しずおか","Shizuoka-ken",3633202,1791118,1842084,3700305,-67103,-1.81345,7777.35,467.2,48.414760000000001,49.674059999999997,439490,2100962,1092750,12.096489999999999,57.826729999999998,30.076779999999999,225391,1082681,483046,12.583819999999999,60.447220000000002,26.968969999999999,214099,1018281,609704,11.62265,55.278750000000002,33.098599999999998,97.233239999999995,3540934,92268,1483472,1480969,2503,1429600,1480969,829251,305165,385860,21488,116738,472201,166069,182564,109658]
[21,"23000_愛知県","愛知","あいち","Aichi-ken",7542415,3761502,3780913,7483128,59287,0.79227999999999998,5173.07,1458,45.646250000000002,46.333179999999999,980388,4654635,1907392,12.998329999999999,61.712789999999998,25.288879999999999,502734,2410818,847950,13.36525,64.091899999999995,22.542860000000001,477654,2243817,1059442,12.6333,59.3459,28.020800000000001,99.486609999999999,7283260,259155,3238301,3233126,5175,3063833,3233126,1794260,623565,900894,41751,228050,1175221,323796,352211,146189]
[24,"24000_三重県","三重","みえ","Mie-ken",1770254,864475,905779,1815865,-45611,-2.5118100000000001,5774.49,306.60000000000002,48.28998,49.509819999999998,213373,1027332,529549,12.053240000000001,58.033029999999997,29.913730000000001,109236,523670,231569,12.63611,60.576650000000001,26.787240000000001,104137,503662,297980,11.49695,55.605400000000003,32.897649999999999,95.439949999999996,1718708,51546,742598,741183,1415,720292,741183,423745,164116,196585,9852,53192,244698,88354,102675,40236]
[23,"25000_滋賀県","滋賀","しが","Shiga-ken",1413610,697429,716181,1412916,694,4.9119999999999997E-2,4017.38,351.9,45.896720000000002,46.675060000000002,192256,849686,371668,13.60036,60.107529999999997,26.292120000000001,98854,432974,165601,14.174060000000001,62.081440000000001,23.744499999999999,93402,416712,206067,13.041679999999999,58.185290000000002,28.773029999999999,97.38167,1380486,33124,571374,570529,845,537550,570529,330640,115817,167640,7179,40004,182011,53625,70197,35996]
[27,"26000_京都府","京都","きょうと","Kyoto-fu",2578087,1231468,1346619,2610353,-32266,-1.2360800000000001,4612.2,559,47.737749999999998,48.528359999999999,294399,1527284,756404,11.419280000000001,59.24098,29.339739999999999,151054,757261,323153,12.266170000000001,61.492539999999998,26.24128,143345,770023,433251,10.64481,57.181950000000001,32.17324,91.448880000000003,2520012,58075,1190527,1188903,1624,1152902,1188903,622055,229823,286412,14889,90931,489815,153688,143699,36133]
[28,"27000_大阪府","大阪","おおさか","Osaka-fu",8837685,4235956,4601729,8839469,-1784,-2.018E-2,1905.32,4638.3999999999996,47.098039999999997,47.927289999999999,1032375,5363326,2441984,11.681509999999999,60.686999999999998,27.631489999999999,527944,2658750,1049262,12.4634,62.76623,24.77037,504431,2704576,1392722,10.96177,58.773040000000002,30.26519,92.051400000000001,8595483,242202,4135879,4126995,8884,3923887,4126995,2192989,774121,1020391,53727,344750,1727107,567399,452935,86646]
[30,"28000_兵庫県","兵庫","ひょうご","Hyogo-ken",5465002,2599756,2865246,5534800,-69798,-1.26108,8401.02,650.5,47.950780000000002,49.155889999999999,666511,3197092,1601399,12.19599,58.501199999999997,29.302810000000001,341518,1570055,688183,13.13654,60.392400000000002,26.471060000000001,324993,1627037,913216,11.34259,56.785249999999998,31.872170000000001,90.734129999999993,5356648,108354,2402484,2399358,3126,2315200,2399358,1371842,510055,639014,30998,191775,862511,313735,310554,78607]
[26,"29000_奈良県","奈良","なら","Nara-ken",1324473,623926,700547,1364316,-39843,-2.9203600000000001,3690.94,358.8,49.04701,50.733730000000001,154836,749514,420123,11.690390000000001,56.589599999999997,31.720009999999998,78996,362335,182595,12.66112,58.073390000000003,29.26549,75840,387179,237528,10.82583,55.268099999999997,33.906080000000003,89.062690000000003,1311730,12743,544981,543908,1073,530221,543908,340422,129786,156466,7602,46568,159204,70741,86726,25015]
[29,"30000_和歌山県","和歌山","わかやま","Wakayama-ken",922584,435051,487533,963579,-40995,-4.2544500000000003,4724.6499999999996,195.3,50.224130000000002,52.282440000000001,105598,509212,307774,11.4459,55.194110000000002,33.36,54010,250980,130061,12.41464,57.689790000000002,29.895579999999999,51588,258232,177713,10.581440000000001,52.967080000000003,36.451479999999997,89.235190000000003,916179,6405,394483,393489,994,392332,393489,233292,92680,100052,5699,34861,127908,64404,59239,17459]
[31,"31000_鳥取県","鳥取","とっとり","Tottori-ken",553407,264432,288975,573441,-20034,-3.4936500000000001,3507.14,157.80000000000001,49.249400000000001,50.830750000000002,68542,306288,178577,12.38546,55.345880000000001,32.268659999999997,35182,153956,75294,13.304740000000001,58.221400000000003,28.473859999999998,33360,152332,103283,11.54425,52.714590000000001,35.741149999999998,91.506879999999995,548766,4641,219742,219069,673,216894,219069,115881,41682,51398,3250,19551,70641,27170,26164,20626]
[35,"32000_島根県","島根","しまね","Shimane-ken",671126,324291,346835,694352,-23226,-3.3449900000000001,6707.89,100.1,50.131639999999997,52.041989999999998,81837,359735,229554,12.19398,53.601709999999997,34.20431,42114,184329,97848,12.98648,56.840620000000001,30.172899999999998,39723,175406,131706,11.452999999999999,50.573329999999999,37.973680000000002,93.500079999999997,662115,9011,269892,268462,1430,265008,268462,140016,56567,58863,3528,21058,89036,35331,36340,24575]
[32,"33000_岡山県","岡山","おかやま","Okayama-ken",1888432,908045,980387,1921525,-33093,-1.7222299999999999,7114.33,265.39999999999998,48.009790000000002,48.831049999999998,233416,1082126,572890,12.36031,57.302880000000002,30.33681,120038,541499,246508,13.219390000000001,59.633499999999998,27.147110000000001,113378,540627,326382,11.56462,55.144240000000003,33.291139999999999,92.621080000000006,1859012,29420,801409,799611,1798,772977,799611,435515,162552,202327,10376,60260,284926,94208,103306,41981]
[36,"34000_広島県","広島","ひろしま","Hiroshima-ken",2799702,1357156,1442546,2843990,-44288,-1.55725,8479.65,330.2,47.663670000000003,48.538220000000003,353792,1622812,823098,12.63677,57.963740000000001,29.39949,181003,821120,355033,13.336930000000001,60.502989999999997,26.160070000000001,172789,801692,468065,11.978059999999999,55.574800000000003,32.447150000000001,94.080600000000004,2746811,52891,1243527,1241204,2323,1211425,1241204,695820,272306,314235,15298,93981,462961,157316,166047,41462]
[39,"35000_山口県","山口","やまぐち","Yamaguchi-ken",1342059,636736,705323,1404729,-62670,-4.46136,6112.54,219.6,50.395679999999999,52.282850000000003,153838,723588,464633,11.46283,53.916260000000001,34.620910000000002,78833,362964,194939,12.380800000000001,57.003839999999997,30.615359999999999,75005,360624,269694,10.634130000000001,51.128920000000001,38.23695,90.275800000000004,1326043,16016,598824,597309,1515,598834,597309,336505,143402,137230,7711,48162,218208,94207,92911,20793]
[34,"36000_徳島県","徳島","とくしま","Tokushima-ken",719559,343265,376294,755733,-36174,-4.7866099999999996,4146.75,173.5,50.53772,52.65916,78361,395215,245983,10.890140000000001,54.924610000000001,34.18524,40262,197131,105872,11.72913,57.428229999999999,30.842639999999999,38099,198084,140111,10.1248,52.640749999999997,37.234450000000002,91.222549999999998,713716,5843,308210,307358,852,305754,307358,165161,65180,71917,4306,23758,109570,42341,42224,17536]
[33,"37000_香川県","香川","かがわ","Kagawa-ken",950244,459197,491047,976263,-26019,-2.6651600000000002,1876.78,506.3,49.040170000000003,50.152630000000002,114662,533564,302018,12.06659,56.150210000000001,31.78321,58723,269750,130724,12.78819,58.743850000000002,28.467960000000001,55939,263814,171294,11.391780000000001,53.724800000000002,34.883420000000001,93.513859999999994,937342,12902,406985,406062,923,398551,406062,230506,90550,102399,5682,31875,139818,53301,56782,19096]
[37,"38000_愛媛県","愛媛","えひめ","Ehime-ken",1334841,633062,701779,1385262,-50421,-3.6398199999999998,5676.19,235.2,49.991169999999997,51.786720000000003,154420,737231,443190,11.56842,55.229869999999998,33.201709999999999,79153,366862,187047,12.5032,57.950409999999998,29.546399999999998,75267,370369,256143,10.72517,52.775730000000003,36.499099999999999,90.208169999999996,1322257,12584,601402,599941,1461,591972,599941,331966,135510,139040,7980,49436,224773,89813,85126,20876]
[38,"39000_高知県","高知","こうち","Kochi-ken",691527,326531,364996,728276,-36749,-5.04603,7103.63,97.3,51.253729999999997,53.443950000000001,75171,370997,245359,10.870290000000001,53.648949999999999,35.48075,38389,185381,102761,11.75662,56.772860000000001,31.47052,36782,185616,142598,10.07737,50.854259999999996,39.068370000000002,89.461529999999996,686982,4545,315272,314330,942,319011,314330,168195,67289,67755,5062,28089,122867,55958,42705,10570]
[40,"40000_福岡県","福岡","ふくおか","Fukuoka-ken",5135214,2430951,2704263,5101556,33658,0.65976000000000001,4986.51,1029.8,46.686619999999998,47.302140000000001,667107,3035328,1432779,12.990830000000001,59.108110000000003,27.901060000000001,341127,1490234,599590,14.03266,61.302509999999998,24.664829999999998,325980,1545094,833189,12.0543,57.135489999999997,30.810210000000001,89.893289999999993,5055456,79758,2323325,2318479,4846,2201037,2318479,1213986,440783,553879,28051,191273,942993,284223,258448,76555]
[44,"41000_佐賀県","佐賀","さが","Saga-ken",811442,384451,426991,832832,-21390,-2.5683500000000001,2440.69,332.5,48.045279999999998,49.611550000000001,109174,453697,248571,13.454319999999999,55.912439999999997,30.633240000000001,56051,223610,104790,14.57949,58.163460000000001,27.25705,53123,230087,143781,12.44125,53.885680000000001,33.673079999999999,90.037260000000003,804878,6564,312680,311173,1507,302109,311173,171795,60326,79364,4410,27695,94280,36646,37862,28398]
[45,"42000_長崎県","長崎","ながさき","Nagasaki-ken",1312317,616912,695405,1377187,-64870,-4.7103299999999999,4130.9799999999996,317.7,49.650739999999999,52.136899999999997,164573,714726,433018,12.54064,54.462910000000001,32.996450000000003,84489,350646,181777,13.69547,56.838900000000002,29.465630000000001,80084,364080,251241,11.516170000000001,52.3551,36.128729999999997,88.712620000000001,1303067,9250,558230,556130,2100,560720,556130,313876,127381,129115,7573,49807,191470,83871,79510,27671]
[46,"43000_熊本県","熊本","くまもと","Kumamoto-ken",1738301,822481,915820,1786170,-47869,-2.67998,7409.46,234.6,48.594729999999998,50.276200000000003,229016,963053,546232,13.1747,55.401969999999999,31.42333,117178,473658,231645,14.24689,57.588929999999998,28.164180000000002,111838,489395,314587,12.211790000000001,53.437899999999999,34.35031,89.808149999999998,1722005,16296,719154,716740,2414,704730,716740,396063,149328,175135,9867,61733,242940,92410,94175,43735]
[41,"44000_大分県","大分","おおいた","Oita-ken",1123852,533414,590438,1166338,-42486,-3.6426799999999999,6340.76,177.2,49.668219999999998,51.460979999999999,136329,613637,373886,12.130509999999999,54.601230000000001,33.268259999999998,69664,305765,157985,13.06002,57.322270000000003,29.617709999999999,66665,307872,215901,11.29077,52.142989999999998,36.566240000000001,90.342089999999999,1111592,12260,489249,487679,1570,486535,487679,269815,111409,113994,6209,38203,175329,69725,71023,21381]
[42,"45000_宮崎県","宮崎","みやざき","Miyazaki-ken",1069576,504763,564813,1104069,-34493,-3.1241699999999999,7735.22,138.30000000000001,49.233629999999998,51.33137,140291,580412,348873,13.11651,54.265619999999998,32.61788,71649,284874,148240,14.19458,56.437179999999998,29.36824,68642,295538,200633,12.15305,52.324930000000002,35.522019999999998,89.368160000000003,1062573,7003,470055,468575,1480,462858,468575,267348,111275,109470,6292,40311,167776,70639,69461,16113]
[43,"46000_鹿児島県","鹿児島","かごしま","Kagoshima-ken",1588256,748306,839950,1648177,-59921,-3.6355900000000001,9187.06,172.9,49.326610000000002,51.78031,207602,863898,516756,13.071070000000001,54.392870000000002,32.536059999999999,106813,419735,221758,14.27397,56.091360000000002,29.63467,100789,444163,294998,11.9994,52.8797,35.120899999999999,89.089349999999996,1577022,11234,728179,725855,2324,724690,725855,406396,173698,166018,9161,57519,282664,119020,108442,14009]
[47,"47000_沖縄県","沖縄","おきなわ","Okinawa-ken",1467480,722812,744668,1433566,33914,2.36571,2282.59,642.9,43.45814,44.054110000000001,243943,892133,331404,16.623259999999998,60.79354,22.583200000000001,124384,449380,149048,17.208349999999999,62.171080000000003,20.62058,119559,442753,182356,16.055340000000001,59.456429999999997,24.488230000000001,97.064999999999998,1447245,20235,614708,613294,1414,560424,613294,338232,96510,167439,11246,63037,229602,68601,50578,19797]

{"sheet":"手順書_市町村なまえ","index":5,"n_rows":117,"n_cols":32,"rows_kept":117,"cut":false,"hidden":false,"merged":[[54,6,54,9],[15,16,15,19],[67,16,67,19],[64,16,64,17],[15,5,15,14],[30,5,30,14],[51,7,51,9],[52,6,52,9],[53,6,53,9],[64,7,64,9],[64,10,64,11],[64,12,64,13],[30,16,30,17],[65,7,65,9],[65,10,65,11],[65,12,65,13],[66,7,66,9],[66,10,66,11],[66,12,66,13],[67,7,67,9],[67,10,67,11],[67,12,67,13],[68,7,68,9],[68,10,68,11],[68,12,68,13],[69,7,69,9],[69,10,69,11],[69,12,69,13],[70,7,70,9],[70,10,70,11],[70,12,70,13],[71,7,71,9],[71,10,71,11],[71,12,71,13],[72,7,72,9],[72,10,72,11],[72,12,72,13],[73,7,73,9],[73,10,73,11],[73,12,73,13],[74,7,74,9],[74,10,74,11],[74,12,74,13],[75,7,75,9],[75,10,75,11],[75,12,75,13],[76,7,76,9],[76,10,76,11],[76,12,76,13],[77,7,77,9],[77,10,77,11],[77,12,77,13],[78,7,78,9],[78,10,78,11],[78,12,78,13],[79,7,79,9],[79,10,79,11],[79,12,79,13],[80,7,80,9],[80,10,80,11],[80,12,80,13],[81,7,81,9],[81,10,81,11],[81,12,81,13],[84,7,84,9],[84,10,84,11],[84,12,84,13],[82,7,82,9],[82,10,82,11],[82,12,82,13],[83,7,83,9],[83,10,83,11],[83,12,83,13]]}
[null,null,null,null,null,"C1.0","C1.1.0",null,null,"C1.1.1.0",null,null,"C1.2.0",null,null,null,"C2.0",null,null,null,null,"C3.0",null,null,null,null,null,null,null,null,null,"EOL"]
[null,"手順書　＞　人口"]
[]
[null,null,null,"手順１"]
[]
[]
[]
[]
[]
[]
[]
[null,null,null,null,null,null,"転写元になる［地図テンプレート］のワークシート名等を、"]
[null,null,null,null,null,"👇","以下に入力してください。"]
[]
[null,null,null,null,null,"ワークシート名",null,null,null,null,null,null,null,null,null,null,"範囲"]
["R1.1.0",null,null,null,null,"地図テンプレート_1",null,null,null,null,null,null,null,null,null,null,"A1:CB40"]
[]
[]
[null,null,null,"手順２"]
[]
[]
[]
[]
[]
[]
[null,null,null,null,null,null,null,"地図の転写先を、"]
[null,null,null,null,null,null,"👇","入力してください。"]
[]
[null,null,null,null,null,null,"ワークシート名を間違えて上書きすると、このワークブックの機能を破損させてしまいかねますので慎重に確認してください。"]
[null,null,null,null,null,"ワークシート名",null,null,null,null,null,null,null,null,null,null,"左上隅セル"]
["R2.1.0",null,null,null,null,"自動生成_市町村なまえ",null,null,null,null,null,null,null,null,null,null,"A1"]
[]
[]
[null,null,null,"手順３"]
[]
[]
[]
[]
[]
[]
[]
[]
[]
[]
[]
[null,null,null,null,null,"👇","以下は市町村１つ分の凡例です。"]
[null,null,null,null,null,null,null,null,null,null,null,null,null,null,null,"［市町村データ］",null,null,null,"ワークシートの列名を、"]
[null,null,null,null,null,null,null,null,null,null,null,null,null,null,null,"👇","以下の凡例に入れてください。"]
[null,null,null,null,null,null,"よくわからないときは、このままにしてください。"]
[null,null,null,null,null,null,"黄色い枠のサイズは固定です。"]
[null,null,null,null,null,null,null,null,null,null,null,null,"転写先セル"]
["R3.1.0",null,null,null,null,null,null,"名前",null,null,null,null,"C3"]
[null,null,null,null,null,null,"なまえ"]
[]
["R3.2.0"]
[]
[]
[]
[null,null,null,"手順４"]
[]
[null,null,null,null,null,"👇","以下はヒートマップの色の凡例です。"]
[null,null,null,null,null,null,"今回は使っていないので、このままにしてください。"]
[null,null,null,null,null,null,"黄色い枠のサイズは固定です。"]
[null,null,null,null,null,null,"A","B","C","D","E","F","G","H",null,null,"転写先セル"]
["R4.1.0",null,null,null,null,1,"No","以上",null,null,"背景色",null,"前景色",null,null,null,"BX7"]
[null,null,null,null,null,2,1]
[null,null,null,null,null,3,2,null,null,null,null,null,null,null,null,null,"転写元の範囲"]
["R4.2.0",null,null,null,null,4,3,null,null,null,null,null,null,null,null,null,"B1:F1"]
[null,null,null,null,null,5,4,null,null,null,null,null,null,null,null,null,"左の黄色い枠の番地を使ってください。"]
[null,null,null,null,null,6,5]
[null,null,null,null,null,7,6]
[null,null,null,null,null,8,7]
[null,null,null,null,null,9,8]
[null,null,null,null,null,10,9]
[null,null,null,null,null,11,10]
[null,null,null,null,null,12,11]
[null,null,null,null,null,13,12]
[null,null,null,null,null,14,13]
[null,null,null,null,null,15,14]
[null,null,null,null,null,16,15]
[null,null,null,null,null,17,16]
[null,null,null,null,null,18,17]
[null,null,null,null,null,19,18]
[null,null,null,null,null,20,19]
["R4.3.0",null,null,null,null,21,20]
[]
[]
[]
[null,null,null,"手順４"]
[]
[null,null,null,null,null,"👇","以下のボタンを押してください。"]
[]
[]
[]
[]
[]
[]
[]
[]
[]
[]
[]
[]
[]
[]
[]
[]
[]
[]
[]
[]
[]
[]
[null,null,null,null,null,null,null,"ワークシートが生成できたら完了です。"]
[]
[null,"以上"]
["EOF"]

{"sheet":"自動生成_市町村なまえ","index":6,"n_rows":39,"n_cols":71,"rows_kept":39,"cut":false,"hidden":false,"merged":[[11,54,11,57],[11,58,11,61],[11,62,11,65],[11,66,11,69],[12,54,12,57],[12,58,12,61],[12,62,12,65],[12,66,12,69],[6,67,6,69],[7,66,7,69],[8,66,8,69],[9,66,9,69],[10,55,10,57],[10,59,10,61],[10,63,10,65],[10,67,10,69],[13,54,13,57],[13,58,13,61],[13,62,13,65],[13,66,13,69],[14,19,14,21],[14,23,14,25],[14,31,14,33],[14,35,14,37],[14,39,14,41],[14,43,14,45],[14,55,14,57],[14,59,14,61],[14,63,14,65],[14,67,14,69],[15,18,15,21],[15,22,15,25],[15,30,15,33],[15,34,15,37],[15,38,15,41],[15,42,15,45],[15,54,15,57],[15,58,15,61],[15,62,15,65],[15,66,15,69],[16,18,16,21],[16,22,16,25],[16,30,16,33],[16,34,16,37],[16,38,16,41],[16,42,16,45],[16,54,16,57],[16,58,16,61],[16,62,16,65],[16,66,16,69],[17,18,17,21],[17,22,17,25],[17,30,17,33],[17,34,17,37],[17,38,17,41],[17,42,17,45],[17,54,17,57],[17,58,17,61],[17,62,17,65],[17,66,17,69],[18,7,18,9],[18,11,18,13],[18,15,18,17],[18,19,18,21],[18,23,18,25],[18,27,18,29],[18,55,18,57],[18,59,18,61],[18,63,18,65],[19,6,19,9],[19,10,19,13],[19,14,19,17],[19,18,19,21],[19,22,19,25],[19,26,19,29],[19,30,19,33],[18,31,18,33],[18,35,18,37],[18,39,18,41],[18,43,18,45],[18,47,18,49],[18,51,18,53],[19,58,19,61],[19,62,19,65],[20,6,20,9],[20,10,20,13],[20,14,20,17],[20,18,20,21],[20,22,20,25],[20,26,20,29],[20,30,20,33],[20,34,20,37],[19,34,19,37],[19,38,19,41],[19,42,19,45],[19,46,19,49],[19,50,19,53],[19,54,19,57],[21,42,21,45],[21,46,21,49],[21,50,21,53],[21,54,21,57],[21,58,21,61],[21,62,21,65],[20,62,20,65],[21,6,21,9],[21,10,21,13],[21,14,21,17],[21,18,21,21],[21,22,21,25],[21,26,21,29],[21,30,21,33],[21,34,21,37],[21,38,21,41],[20,38,20,41],[20,42,20,45],[20,46,20,49],[20,50,20,53],[20,54,20,57],[20,58,20,61],[23,18,23,21],[23,22,23,25],[23,30,23,33],[22,7,22,9],[22,11,22,13],[22,19,22,21],[22,23,22,25],[22,31,22,33],[22,39,22,41],[23,38,23,41],[23,42,23,45],[23,46,23,49],[23,50,23,53],[23,54,23,57],[23,58,23,61],[22,43,22,45],[22,47,22,49],[22,51,22,53],[22,55,22,57],[22,59,22,61],[25,18,25,21],[25,22,25,25],[25,30,25,33],[24,6,24,9],[24,10,24,13],[24,18,24,21],[24,22,24,25],[24,30,24,33],[24,38,24,41],[25,38,25,41],[25,42,25,45],[25,46,25,49],[25,50,25,53],[25,54,25,57],[25,58,25,61],[24,42,24,45],[24,46,24,49],[24,50,24,53],[24,54,24,57],[24,58,24,61],[28,18,28,21],[28,22,28,25],[29,6,29,9],[29,10,29,13],[29,18,29,21],[29,22,29,25],[26,7,26,9],[26,11,26,13],[26,19,26,21],[26,23,26,25],[27,6,27,9],[27,10,27,13],[27,18,27,21],[27,22,27,25],[33,6,33,9],[33,10,33,13],[2,3,2,5],[3,2,3,5],[4,2,4,5],[5,2,5,5],[30,7,30,9],[30,11,30,13],[31,6,31,9],[31,10,31,13],[32,6,32,9],[32,10,32,13],[28,6,28,9],[28,10,28,13],[25,6,25,9],[25,10,25,13],[23,6,23,9],[23,10,23,13]]}
[]
[]
[null,null,null,"名前",null,null,"あ",null,null,null,"い",null,null,null,"う",null,null,null,"え",null,null,null,"お",null,null,null,"か",null,null,null,"き",null,null,null,"く",null,null,null,"け",null,null,null,"こ",null,null,null,"さ",null,null,null,"し",null,null,null,"す",null,null,null,"せ",null,null,null,"そ",null,null,null,"た",null,null,null,"ち"]
[null,null,"なまえ"]
[]
[]
[null,null,"A",null,null,null,null,null,null,null,null,null,null,null,null,null,null,null,null,null,null,null,null,null,null,null,null,null,null,null,null,null,null,null,null,null,null,null,null,null,null,null,null,null,null,null,null,null,null,null,null,null,null,null,null,null,null,null,null,null,null,null,null,null,null,null,1,{"$f":"VLOOKUP(BO7,市町村データ!A2:AX48,MATCH(手順書_市町村なまえ!$H$52, 市町村データ!A1:AX1, 0),FALSE)","v":"北海道"}]
[null,null,null,null,null,null,null,null,null,null,null,null,null,null,null,null,null,null,null,null,null,null,null,null,null,null,null,null,null,null,null,null,null,null,null,null,null,null,null,null,null,null,null,null,null,null,null,null,null,null,null,null,null,null,null,null,null,null,null,null,null,null,null,null,null,null,{"$f":"VLOOKUP(BO7,市町村データ!A2:AX48,MATCH(手順書_市町村なまえ!$G$53, 市町村データ!A1:AX1, 0),FALSE)","v":"ほっかいどう"}]
[]
[]
[null,null,"B",null,null,null,null,null,null,null,null,null,null,null,null,null,null,null,null,null,null,null,null,null,null,null,null,null,null,null,null,null,null,null,null,null,null,null,null,null,null,null,null,null,null,null,null,null,null,null,null,null,null,null,11,{"$f":"VLOOKUP(BC11,市町村データ!A2:AX48,MATCH(手順書_市町村なまえ!$H$52, 市町村データ!A1:AX1, 0),FALSE)","v":"新潟"},null,null,7,{"$f":"VLOOKUP(BG11,市町村データ!A2:AX48,MATCH(手順書_市町村なまえ!$H$52, 市町村データ!A1:AX1, 0),FALSE)","v":"山形"},null,null,4,{"$f":"VLOOKUP(BK11,市町村データ!A2:AX48,MATCH(手順書_市町村なまえ!$H$52, 市町村データ!A1:AX1, 0),FALSE)","v":"秋田"},null,null,2,{"$f":"VLOOKUP(BO11,市町村データ!A2:AX48,MATCH(手順書_市町村なまえ!$H$52, 市町村データ!A1:AX1, 0),FALSE)","v":"青森"}]
[null,null,null,null,null,null,null,null,null,null,null,null,null,null,null,null,null,null,null,null,null,null,null,null,null,null,null,null,null,null,null,null,null,null,null,null,null,null,null,null,null,null,null,null,null,null,null,null,null,null,null,null,null,null,{"$f":"VLOOKUP(BC11,市町村データ!A2:AX48,MATCH(手順書_市町村なまえ!$G$53, 市町村データ!A1:AX1, 0),FALSE)","v":"にいがた"},null,null,null,{"$f":"VLOOKUP(BG11,市町村データ!A2:AX48,MATCH(手順書_市町村なまえ!$G$53, 市町村データ!A1:AX1, 0),FALSE)","v":"やまがた"},null,null,null,{"$f":"VLOOKUP(BK11,市町村データ!A2:AX48,MATCH(手順書_市町村なまえ!$G$53, 市町村データ!A1:AX1, 0),FALSE)","v":"あきた"},null,null,null,{"$f":"VLOOKUP(BO11,市町村データ!A2:AX48,MATCH(手順書_市町村なまえ!$G$53, 市町村データ!A1:AX1, 0),FALSE)","v":"あおもり"}]
[]
[]
[null,null,"C",null,null,null,null,null,null,null,null,null,null,null,null,null,null,null,35,{"$f":"VLOOKUP(S15,市町村データ!A2:AX48,MATCH(手順書_市町村なまえ!$H$52, 市町村データ!A1:AX1, 0),FALSE)","v":"島根"},null,null,31,{"$f":"VLOOKUP(W15,市町村データ!A2:AX48,MATCH(手順書_市町村なまえ!$H$52, 市町村データ!A1:AX1, 0),FALSE)","v":"鳥取"},null,null,null,null,null,null,27,{"$f":"VLOOKUP(AE15,市町村データ!A2:AX48,MATCH(手順書_市町村なまえ!$H$52, 市町村データ!A1:AX1, 0),FALSE)","v":"京都"},null,null,25,{"$f":"VLOOKUP(AI15,市町村データ!A2:AX48,MATCH(手順書_市町村なまえ!$H$52, 市町村データ!A1:AX1, 0),FALSE)","v":"福井"},null,null,22,{"$f":"VLOOKUP(AM15,市町村データ!A2:AX48,MATCH(手順書_市町村なまえ!$H$52, 市町村データ!A1:AX1, 0),FALSE)","v":"石川"},null,null,19,{"$f":"VLOOKUP(AQ15,市町村データ!A2:AX48,MATCH(手順書_市町村なまえ!$H$52, 市町村データ!A1:AX1, 0),FALSE)","v":"富山"},null,null,null,null,null,null,null,null,null,null,12,{"$f":"VLOOKUP(BC15,市町村データ!A2:AX48,MATCH(手順書_市町村なまえ!$H$52, 市町村データ!A1:AX1, 0),FALSE)","v":"群馬"},null,null,8,{"$f":"VLOOKUP(BG15,市町村データ!A2:AX48,MATCH(手順書_市町村なまえ!$H$52, 市町村データ!A1:AX1, 0),FALSE)","v":"福島"},null,null,5,{"$f":"VLOOKUP(BK15,市町村データ!A2:AX48,MATCH(手順書_市町村なまえ!$H$52, 市町村データ!A1:AX1, 0),FALSE)","v":"宮城"},null,null,3,{"$f":"VLOOKUP(BO15,市町村データ!A2:AX48,MATCH(手順書_市町村なまえ!$H$52, 市町村データ!A1:AX1, 0),FALSE)","v":"岩手"}]
[null,null,null,null,null,null,null,null,null,null,null,null,null,null,null,null,null,null,{"$f":"VLOOKUP(S15,市町村データ!A2:AX48,MATCH(手順書_市町村なまえ!$G$53, 市町村データ!A1:AX1, 0),FALSE)","v":"しまね"},null,null,null,{"$f":"VLOOKUP(W15,市町村データ!A2:AX48,MATCH(手順書_市町村なまえ!$G$53, 市町村データ!A1:AX1, 0),FALSE)","v":"とっとり"},null,null,null,null,null,null,null,{"$f":"VLOOKUP(AE15,市町村データ!A2:AX48,MATCH(手順書_市町村なまえ!$G$53, 市町村データ!A1:AX1, 0),FALSE)","v":"きょうと"},null,null,null,{"$f":"VLOOKUP(AI15,市町村データ!A2:AX48,MATCH(手順書_市町村なまえ!$G$53, 市町村データ!A1:AX1, 0),FALSE)","v":"ふくい"},null,null,null,{"$f":"VLOOKUP(AM15,市町村データ!A2:AX48,MATCH(手順書_市町村なまえ!$G$53, 市町村データ!A1:AX1, 0),FALSE)","v":"いしかわ"},null,null,null,{"$f":"VLOOKUP(AQ15,市町村データ!A2:AX48,MATCH(手順書_市町村なまえ!$G$53, 市町村データ!A1:AX1, 0),FALSE)","v":"とやま"},null,null,null,null,null,null,null,null,null,null,null,{"$f":"VLOOKUP(BC15,市町村データ!A2:AX48,MATCH(手順書_市町村なまえ!$G$53, 市町村データ!A1:AX1, 0),FALSE)","v":"ぐんま"},null,null,null,{"$f":"VLOOKUP(BG15,市町村データ!A2:AX48,MATCH(手順書_市町村なまえ!$G$53, 市町村データ!A1:AX1, 0),FALSE)","v":"ふくしま"},null,null,null,{"$f":"VLOOKUP(BK15,市町村データ!A2:AX48,MATCH(手順書_市町村なまえ!$G$53, 市町村データ!A1:AX1, 0),FALSE)","v":"みやぎ"},null,null,null,{"$f":"VLOOKUP(BO15,市町村データ!A2:AX48,MATCH(手順書_市町村なまえ!$G$53, 市町村データ!A1:AX1, 0),FALSE)","v":"いわて"}]
[]
[]
[null,null,"D",null,null,null,44,{"$f":"VLOOKUP(G19,市町村データ!A2:AX48,MATCH(手順書_市町村なまえ!$H$52, 市町村データ!A1:AX1, 0),FALSE)","v":"佐賀"},null,null,40,{"$f":"VLOOKUP(K19,市町村データ!A2:AX48,MATCH(手順書_市町村なまえ!$H$52, 市町村データ!A1:AX1, 0),FALSE)","v":"福岡"},null,null,39,{"$f":"VLOOKUP(O19,市町村データ!A2:AX48,MATCH(手順書_市町村なまえ!$H$52, 市町村データ!A1:AX1, 0),FALSE)","v":"山口"},null,null,36,{"$f":"VLOOKUP(S19,市町村データ!A2:AX48,MATCH(手順書_市町村なまえ!$H$52, 市町村データ!A1:AX1, 0),FALSE)","v":"広島"},null,null,32,{"$f":"VLOOKUP(W19,市町村データ!A2:AX48,MATCH(手順書_市町村なまえ!$H$52, 市町村データ!A1:AX1, 0),FALSE)","v":"岡山"},null,null,30,{"$f":"VLOOKUP(AA19,市町村データ!A2:AX48,MATCH(手順書_市町村なまえ!$H$52, 市町村データ!A1:AX1, 0),FALSE)","v":"兵庫"},null,null,28,{"$f":"VLOOKUP(AE19,市町村データ!A2:AX48,MATCH(手順書_市町村なまえ!$H$52, 市町村データ!A1:AX1, 0),FALSE)","v":"大阪"},null,null,26,{"$f":"VLOOKUP(AI19,市町村データ!A2:AX48,MATCH(手順書_市町村なまえ!$H$52, 市町村データ!A1:AX1, 0),FALSE)","v":"奈良"},null,null,23,{"$f":"VLOOKUP(AM19,市町村データ!A2:AX48,MATCH(手順書_市町村なまえ!$H$52, 市町村データ!A1:AX1, 0),FALSE)","v":"滋賀"},null,null,20,{"$f":"VLOOKUP(AQ19,市町村データ!A2:AX48,MATCH(手順書_市町村なまえ!$H$52, 市町村データ!A1:AX1, 0),FALSE)","v":"岐阜"},null,null,17,{"$f":"VLOOKUP(AU19,市町村データ!A2:AX48,MATCH(手順書_市町村なまえ!$H$52, 市町村データ!A1:AX1, 0),FALSE)","v":"長野"},null,null,15,{"$f":"VLOOKUP(AY19,市町村データ!A2:AX48,MATCH(手順書_市町村なまえ!$H$52, 市町村データ!A1:AX1, 0),FALSE)","v":"山梨"},null,null,13,{"$f":"VLOOKUP(BC19,市町村データ!A2:AX48,MATCH(手順書_市町村なまえ!$H$52, 市町村データ!A1:AX1, 0),FALSE)","v":"埼玉"},null,null,9,{"$f":"VLOOKUP(BG19,市町村データ!A2:AX48,MATCH(手順書_市町村なまえ!$H$52, 市町村データ!A1:AX1, 0),FALSE)","v":"栃木"},null,null,6,{"$f":"VLOOKUP(BK19,市町村データ!A2:AX48,MATCH(手順書_市町村なまえ!$H$52, 市町村データ!A1:AX1, 0),FALSE)","v":"茨城"}]
[null,null,null,null,null,null,{"$f":"VLOOKUP(G19,市町村データ!A2:AX48,MATCH(手順書_市町村なまえ!$G$53, 市町村データ!A1:AX1, 0),FALSE)","v":"さが"},null,null,null,{"$f":"VLOOKUP(K19,市町村データ!A2:AX48,MATCH(手順書_市町村なまえ!$G$53, 市町村データ!A1:AX1, 0),FALSE)","v":"ふくおか"},null,null,null,{"$f":"VLOOKUP(O19,市町村データ!A2:AX48,MATCH(手順書_市町村なまえ!$G$53, 市町村データ!A1:AX1, 0),FALSE)","v":"やまぐち"},null,null,null,{"$f":"VLOOKUP(S19,市町村データ!A2:AX48,MATCH(手順書_市町村なまえ!$G$53, 市町村データ!A1:AX1, 0),FALSE)","v":"ひろしま"},null,null,null,{"$f":"VLOOKUP(W19,市町村データ!A2:AX48,MATCH(手順書_市町村なまえ!$G$53, 市町村データ!A1:AX1, 0),FALSE)","v":"おかやま"},null,null,null,{"$f":"VLOOKUP(AA19,市町村データ!A2:AX48,MATCH(手順書_市町村なまえ!$G$53, 市町村データ!A1:AX1, 0),FALSE)","v":"ひょうご"},null,null,null,{"$f":"VLOOKUP(AE19,市町村データ!A2:AX48,MATCH(手順書_市町村なまえ!$G$53, 市町村データ!A1:AX1, 0),FALSE)","v":"おおさか"},null,null,null,{"$f":"VLOOKUP(AI19,市町村データ!A2:AX48,MATCH(手順書_市町村なまえ!$G$53, 市町村データ!A1:AX1, 0),FALSE)","v":"なら"},null,null,null,{"$f":"VLOOKUP(AM19,市町村データ!A2:AX48,MATCH(手順書_市町村なまえ!$G$53, 市町村データ!A1:AX1, 0),FALSE)","v":"しが"},null,null,null,{"$f":"VLOOKUP(AQ19,市町村データ!A2:AX48,MATCH(手順書_市町村なまえ!$G$53, 市町村データ!A1:AX1, 0),FALSE)","v":"ぎふ"},null,null,null,{"$f":"VLOOKUP(AU19,市町村データ!A2:AX48,MATCH(手順書_市町村なまえ!$G$53, 市町村データ!A1:AX1, 0),FALSE)","v":"ながの"},null,null,null,{"$f":"VLOOKUP(AY19,市町村データ!A2:AX48,MATCH(手順書_市町村なまえ!$G$53, 市町村データ!A1:AX1, 0),FALSE)","v":"やまなし"},null,null,null,{"$f":"VLOOKUP(BC19,市町村データ!A2:AX48,MATCH(手順書_市町村なまえ!$G$53, 市町村データ!A1:AX1, 0),FALSE)","v":"さいたま"},null,null,null,{"$f":"VLOOKUP(BG19,市町村データ!A2:AX48,MATCH(手順書_市町村なまえ!$G$53, 市町村データ!A1:AX1, 0),FALSE)","v":"とちぎ"},null,null,null,{"$f":"VLOOKUP(BK19,市町村データ!A2:AX48,MATCH(手順書_市町村なまえ!$G$53, 市町村データ!A1:AX1, 0),FALSE)","v":"いばらぎ"}]
[]
[]
[null,null,"E",null,null,null,45,{"$f":"VLOOKUP(G23,市町村データ!A2:AX48,MATCH(手順書_市町村なまえ!$H$52, 市町村データ!A1:AX1, 0),FALSE)","v":"長崎"},null,null,41,{"$f":"VLOOKUP(K23,市町村データ!A2:AX48,MATCH(手順書_市町村なまえ!$H$52, 市町村データ!A1:AX1, 0),FALSE)","v":"大分"},null,null,null,null,null,null,37,{"$f":"VLOOKUP(S23,市町村データ!A2:AX48,MATCH(手順書_市町村なまえ!$H$52, 市町村データ!A1:AX1, 0),FALSE)","v":"愛媛"},null,null,33,{"$f":"VLOOKUP(W23,市町村データ!A2:AX48,MATCH(手順書_市町村なまえ!$H$52, 市町村データ!A1:AX1, 0),FALSE)","v":"香川"},null,null,null,null,null,null,29,{"$f":"VLOOKUP(AE23,市町村データ!A2:AX48,MATCH(手順書_市町村なまえ!$H$52, 市町村データ!A1:AX1, 0),FALSE)","v":"和歌山"},null,null,null,null,null,null,24,{"$f":"VLOOKUP(AM23,市町村データ!A2:AX48,MATCH(手順書_市町村なまえ!$H$52, 市町村データ!A1:AX1, 0),FALSE)","v":"三重"},null,null,21,{"$f":"VLOOKUP(AQ23,市町村データ!A2:AX48,MATCH(手順書_市町村なまえ!$H$52, 市町村データ!A1:AX1, 0),FALSE)","v":"愛知"},null,null,18,{"$f":"VLOOKUP(AU23,市町村データ!A2:AX48,MATCH(手順書_市町村なまえ!$H$52, 市町村データ!A1:AX1, 0),FALSE)","v":"静岡"},null,null,16,{"$f":"VLOOKUP(AY23,市町村データ!A2:AX48,MATCH(手順書_市町村なまえ!$H$52, 市町村データ!A1:AX1, 0),FALSE)","v":"神奈川"},null,null,14,{"$f":"VLOOKUP(BC23,市町村データ!A2:AX48,MATCH(手順書_市町村なまえ!$H$52, 市町村データ!A1:AX1, 0),FALSE)","v":"東京"},null,null,10,{"$f":"VLOOKUP(BG23,市町村データ!A2:AX48,MATCH(手順書_市町村なまえ!$H$52, 市町村データ!A1:AX1, 0),FALSE)","v":"千葉"}]
[null,null,null,null,null,null,{"$f":"VLOOKUP(G23,市町村データ!A2:AX48,MATCH(手順書_市町村なまえ!$G$53, 市町村データ!A1:AX1, 0),FALSE)","v":"ながさき"},null,null,null,{"$f":"VLOOKUP(K23,市町村データ!A2:AX48,MATCH(手順書_市町村なまえ!$G$53, 市町村データ!A1:AX1, 0),FALSE)","v":"おおいた"},null,null,null,null,null,null,null,{"$f":"VLOOKUP(S23,市町村データ!A2:AX48,MATCH(手順書_市町村なまえ!$G$53, 市町村データ!A1:AX1, 0),FALSE)","v":"えひめ"},null,null,null,{"$f":"VLOOKUP(W23,市町村データ!A2:AX48,MATCH(手順書_市町村なまえ!$G$53, 市町村データ!A1:AX1, 0),FALSE)","v":"かがわ"},null,null,null,null,null,null,null,{"$f":"VLOOKUP(AE23,市町村データ!A2:AX48,MATCH(手順書_市町村なまえ!$G$53, 市町村データ!A1:AX1, 0),FALSE)","v":"わかやま"},null,null,null,null,null,null,null,{"$f":"VLOOKUP(AM23,市町村データ!A2:AX48,MATCH(手順書_市町村なまえ!$G$53, 市町村データ!A1:AX1, 0),FALSE)","v":"みえ"},null,null,null,{"$f":"VLOOKUP(AQ23,市町村データ!A2:AX48,MATCH(手順書_市町村なまえ!$G$53, 市町村データ!A1:AX1, 0),FALSE)","v":"あいち"},null,null,null,{"$f":"VLOOKUP(AU23,市町村データ!A2:AX48,MATCH(手順書_市町村なまえ!$G$53, 市町村データ!A1:AX1, 0),FALSE)","v":"しずおか"},null,null,null,{"$f":"VLOOKUP(AY23,市町村データ!A2:AX48,MATCH(手順書_市町村なまえ!$G$53, 市町村データ!A1:AX1, 0),FALSE)","v":"かながわ"},null,null,null,{"$f":"VLOOKUP(BC23,市町村データ!A2:AX48,MATCH(手順書_市町村なまえ!$G$53, 市町村データ!A1:AX1, 0),FALSE)","v":"とうきょう"},null,null,null,{"$f":"VLOOKUP(BG23,市町村データ!A2:AX48,MATCH(手順書_市町村なまえ!$G$53, 市町村データ!A1:AX1, 0),FALSE)","v":"ちば"}]
[]
[]
[null,null,"F",null,null,null,46,{"$f":"VLOOKUP(G27,市町村データ!A2:AX48,MATCH(手順書_市町村なまえ!$H$52, 市町村データ!A1:AX1, 0),FALSE)","v":"熊本"},null,null,42,{"$f":"VLOOKUP(K27,市町村データ!A2:AX48,MATCH(手順書_市町村なまえ!$H$52, 市町村データ!A1:AX1, 0),FALSE)","v":"宮崎"},null,null,null,null,null,null,38,{"$f":"VLOOKUP(S27,市町村データ!A2:AX48,MATCH(手順書_市町村なまえ!$H$52, 市町村データ!A1:AX1, 0),FALSE)","v":"高知"},null,null,34,{"$f":"VLOOKUP(W27,市町村データ!A2:AX48,MATCH(手順書_市町村なまえ!$H$52, 市町村データ!A1:AX1, 0),FALSE)","v":"徳島"}]
[null,null,null,null,null,null,{"$f":"VLOOKUP(G27,市町村データ!A2:AX48,MATCH(手順書_市町村なまえ!$G$53, 市町村データ!A1:AX1, 0),FALSE)","v":"くまもと"},null,null,null,{"$f":"VLOOKUP(K27,市町村データ!A2:AX48,MATCH(手順書_市町村なまえ!$G$53, 市町村データ!A1:AX1, 0),FALSE)","v":"みやざき"},null,null,null,null,null,null,null,{"$f":"VLOOKUP(S27,市町村データ!A2:AX48,MATCH(手順書_市町村なまえ!$G$53, 市町村データ!A1:AX1, 0),FALSE)","v":"こうち"},null,null,null,{"$f":"VLOOKUP(W27,市町村データ!A2:AX48,MATCH(手順書_市町村なまえ!$G$53, 市町村データ!A1:AX1, 0),FALSE)","v":"とくしま"}]
[]
[]
[null,null,"G",null,null,null,47,{"$f":"VLOOKUP(G31,市町村データ!A2:AX48,MATCH(手順書_市町村なまえ!$H$52, 市町村データ!A1:AX1, 0),FALSE)","v":"沖縄"},null,null,43,{"$f":"VLOOKUP(K31,市町村データ!A2:AX48,MATCH(手順書_市町村なまえ!$H$52, 市町村データ!A1:AX1, 0),FALSE)","v":"鹿児島"}]
[null,null,null,null,null,null,{"$f":"VLOOKUP(G31,市町村データ!A2:AX48,MATCH(手順書_市町村なまえ!$G$53, 市町村データ!A1:AX1, 0),FALSE)","v":"おきなわ"},null,null,null,{"$f":"VLOOKUP(K31,市町村データ!A2:AX48,MATCH(手順書_市町村なまえ!$G$53, 市町村データ!A1:AX1, 0),FALSE)","v":"かごしま"}]
[]
[]
[null,null,"H"]
[]
[]
[null,"［国勢調査］＞［令和２年国勢調査（総務省統計局）　都道府県・市区町村別の主な結果］"]
[null,"https://www.e-stat.go.jp/stat-search/files?page=1&layout=datalist&toukei=00200521&tstat=000001049104&cycle=0&tclass1=000001049105&tclass2val=0"]

{"sheet":"手順書_人口密度","index":7,"n_rows":136,"n_cols":32,"rows_kept":136,"cut":false,"hidden":false,"merged":[[86,16,86,19],[83,16,83,17],[103,7,103,9],[103,10,103,11],[103,12,103,13],[101,7,101,9],[101,10,101,11],[101,12,101,13],[102,7,102,9],[102,10,102,11],[102,12,102,13],[99,7,99,9],[99,10,99,11],[99,12,99,13],[100,7,100,9],[100,10,100,11],[100,12,100,13],[97,7,97,9],[97,10,97,11],[97,12,97,13],[98,7,98,9],[98,10,98,11],[98,12,98,13],[95,7,95,9],[95,10,95,11],[95,12,95,13],[96,7,96,9],[96,10,96,11],[96,12,96,13],[93,7,93,9],[93,10,93,11],[93,12,93,13],[94,7,94,9],[94,10,94,11],[94,12,94,13],[91,7,91,9],[91,10,91,11],[91,12,91,13],[92,7,92,9],[92,10,92,11],[92,12,92,13],[89,7,89,9],[89,10,89,11],[89,12,89,13],[90,7,90,9],[90,10,90,11],[90,12,90,13],[87,7,87,9],[87,10,87,11],[87,12,87,13],[88,7,88,9],[88,10,88,11],[88,12,88,13],[85,7,85,9],[85,10,85,11],[85,12,85,13],[86,7,86,9],[86,10,86,11],[86,12,86,13],[83,7,83,9],[83,10,83,11],[83,12,83,13],[84,7,84,9],[84,10,84,11],[84,12,84,13],[30,16,30,17],[54,6,54,9],[15,5,15,14],[30,5,30,14],[51,7,51,9],[52,6,52,9],[53,6,53,9],[15,16,15,19]]}
[null,null,null,null,null,"C1.0","C1.1.0",null,null,"C1.1.1.0",null,null,"C1.2.0",null,null,null,"C2.0",null,null,null,null,"C3.0",null,null,null,null,null,null,null,null,null,"EOL"]
[null,"手順書　＞　人口"]
[]
[null,null,null,"手順１"]
[]
[]
[]
[]
[]
[]
[]
[null,null,null,null,null,null,"転写元になる［地図テンプレート］のワークシート名等を、"]
[null,null,null,null,null,"👇","以下に入力してください。"]
[]
[null,null,null,null,null,"ワークシート名",null,null,null,null,null,null,null,null,null,null,"範囲"]
["R1.1.0",null,null,null,null,"地図テンプレート_1",null,null,null,null,null,null,null,null,null,null,"A1:CB40"]
[]
[]
[null,null,null,"手順２"]
[]
[]
[]
[]
[]
[]
[null,null,null,null,null,null,null,"地図の転写先を、"]
[null,null,null,null,null,null,"👇","入力してください。"]
[]
[null,null,null,null,null,null,"ワークシート名を間違えて上書きすると、このワークブックの機能を破損させてしまいかねますので慎重に確認してください。"]
[null,null,null,null,null,"ワークシート名",null,null,null,null,null,null,null,null,null,null,"左上隅セル"]
["R2.1.0",null,null,null,null,"自動生成_人口密度",null,null,null,null,null,null,null,null,null,null,"A1"]
[]
[]
[null,null,null,"手順３"]
[]
[]
[]
[]
[]
[]
[]
[]
[]
[]
[]
[null,null,null,null,null,"👇","以下は市町村１つ分の凡例です。"]
[null,null,null,null,null,null,null,null,null,null,null,null,null,null,null,"［市町村データ］",null,null,null,"ワークシートの列名を、"]
[null,null,null,null,null,null,null,null,null,null,null,null,null,null,null,"👇","以下の凡例に入れてください。"]
[null,null,null,null,null,null,"ヒートマップにするデータを１つ選んで太字にスタイル設定してください。"]
[null,null,null,null,null,null,"黄色い枠のサイズは固定です。"]
[null,null,null,null,null,null,null,null,null,null,null,null,"転写先セル"]
["R3.1.0",null,null,null,null,null,null,"名前",null,null,null,null,"C3"]
[null,null,null,null,null,null,"人口密度（人/km2）"]
[null,null,null,null,null,null,"人口（人）"]
["R3.2.0",null,null,null,null,null,"面積（km2）"]
[]
[]
[]
[null,null,null,"手順４"]
[]
[]
[]
[]
[]
[]
[]
[]
[]
[]
[]
[]
[]
[]
[]
[]
[]
[]
[]
[null,null,null,null,null,null,null,"ヒートマップの色の凡例です。"]
[null,null,null,null,null,null,"👇","以下に、［以上］列の数値と、［背景色］を設定してください。"]
[]
[null,null,null,null,null,null,"黄色い枠のサイズは固定です。"]
[null,null,null,null,null,null,"A","B","C","D","E","F","G","H",null,null,"転写先の左上隅セル"]
["R4.1.0",null,null,null,null,1,"No","以上",null,null,"背景色",null,"前景色",null,null,null,"BV7"]
[null,null,null,null,null,2,1,5000]
[null,null,null,null,null,3,2,2500,null,null,null,null,null,null,null,null,"転写元の範囲"]
["R4.2.0",null,null,null,null,4,3,1250,null,null,null,null,null,null,null,null,"B1:F12"]
[null,null,null,null,null,5,4,1000,null,null,null,null,null,null,null,null,"左の黄色い枠の番地を使ってください。"]
[null,null,null,null,null,6,5,750]
[null,null,null,null,null,7,6,500]
[null,null,null,null,null,8,7,250]
[null,null,null,null,null,9,8,125]
[null,null,null,null,null,10,9,100]
[null,null,null,null,null,11,10,50]
[null,null,null,null,null,12,11,0]
[null,null,null,null,null,13,12]
[null,null,null,null,null,14,13]
[null,null,null,null,null,15,14]
[null,null,null,null,null,16,15]
[null,null,null,null,null,17,16]
[null,null,null,null,null,18,17]
[null,null,null,null,null,19,18]
[null,null,null,null,null,20,19]
["R4.3.0",null,null,null,null,21,20]
[]
[]
[]
[null,null,null,"手順４"]
[]
[null,null,null,null,null,"👇","以下のボタンを押してください。"]
[]
[]
[]
[]
[]
[]
[]
[]
[]
[]
[]
[]
[]
[]
[]
[]
[]
[]
[]
[]
[]
[]
[null,null,null,null,null,null,null,"ワークシートが生成できたら完了です。"]
[]
[null,"以上"]
["EOF"]

{"sheet":"自動生成_人口密度","index":8,"n_rows":39,"n_cols":77,"rows_kept":39,"cut":false,"hidden":false,"merged":[[15,73,15,75],[15,76,15,77],[16,73,16,75],[16,76,16,77],[17,73,17,75],[17,76,17,77],[12,73,12,75],[12,76,12,77],[13,73,13,75],[13,76,13,77],[14,73,14,75],[14,76,14,77],[9,73,9,75],[9,76,9,77],[10,73,10,75],[10,76,10,77],[11,73,11,75],[11,76,11,77],[6,73,6,75],[6,76,6,77],[7,73,7,75],[7,76,7,77],[8,73,8,75],[8,76,8,77],[33,6,33,9],[33,10,33,13],[2,3,2,5],[3,2,3,5],[4,2,4,5],[5,2,5,5],[30,7,30,9],[30,11,30,13],[31,6,31,9],[31,10,31,13],[32,6,32,9],[32,10,32,13],[28,6,28,9],[28,10,28,13],[28,18,28,21],[28,22,28,25],[29,6,29,9],[29,10,29,13],[29,18,29,21],[29,22,29,25],[26,7,26,9],[26,11,26,13],[26,19,26,21],[26,23,26,25],[27,6,27,9],[27,10,27,13],[27,18,27,21],[27,22,27,25],[25,38,25,41],[25,42,25,45],[25,46,25,49],[25,50,25,53],[25,54,25,57],[25,58,25,61],[24,42,24,45],[24,46,24,49],[24,50,24,53],[24,54,24,57],[24,58,24,61],[25,6,25,9],[25,10,25,13],[25,18,25,21],[25,22,25,25],[25,30,25,33],[24,6,24,9],[24,10,24,13],[24,18,24,21],[24,22,24,25],[24,30,24,33],[24,38,24,41],[23,38,23,41],[23,42,23,45],[23,46,23,49],[23,50,23,53],[23,54,23,57],[23,58,23,61],[22,43,22,45],[22,47,22,49],[22,51,22,53],[22,55,22,57],[22,59,22,61],[23,6,23,9],[23,10,23,13],[23,18,23,21],[23,22,23,25],[23,30,23,33],[22,7,22,9],[22,11,22,13],[22,19,22,21],[22,23,22,25],[22,31,22,33],[22,39,22,41],[21,42,21,45],[21,46,21,49],[21,50,21,53],[21,54,21,57],[21,58,21,61],[21,62,21,65],[20,62,20,65],[21,6,21,9],[21,10,21,13],[21,14,21,17],[21,18,21,21],[21,22,21,25],[21,26,21,29],[21,30,21,33],[21,34,21,37],[21,38,21,41],[20,38,20,41],[20,42,20,45],[20,46,20,49],[20,50,20,53],[20,54,20,57],[20,58,20,61],[19,58,19,61],[19,62,19,65],[20,6,20,9],[20,10,20,13],[20,14,20,17],[20,18,20,21],[20,22,20,25],[20,26,20,29],[20,30,20,33],[20,34,20,37],[19,34,19,37],[19,38,19,41],[19,42,19,45],[19,46,19,49],[19,50,19,53],[19,54,19,57],[18,55,18,57],[18,59,18,61],[18,63,18,65],[19,6,19,9],[19,10,19,13],[19,14,19,17],[19,18,19,21],[19,22,19,25],[19,26,19,29],[19,30,19,33],[18,31,18,33],[18,35,18,37],[18,39,18,41],[18,43,18,45],[18,47,18,49],[18,51,18,53],[17,54,17,57],[17,58,17,61],[17,62,17,65],[17,66,17,69],[18,7,18,9],[18,11,18,13],[18,15,18,17],[18,19,18,21],[18,23,18,25],[18,27,18,29],[16,54,16,57],[16,58,16,61],[16,62,16,65],[16,66,16,69],[17,18,17,21],[17,22,17,25],[17,30,17,33],[17,34,17,37],[17,38,17,41],[17,42,17,45],[15,54,15,57],[15,58,15,61],[15,62,15,65],[15,66,15,69],[16,18,16,21],[16,22,16,25],[16,30,16,33],[16,34,16,37],[16,38,16,41],[16,42,16,45],[14,55,14,57],[14,59,14,61],[14,63,14,65],[14,67,14,69],[15,18,15,21],[15,22,15,25],[15,30,15,33],[15,34,15,37],[15,38,15,41],[15,42,15,45],[13,54,13,57],[13,58,13,61],[13,62,13,65],[13,66,13,69],[14,19,14,21],[14,23,14,25],[14,31,14,33],[14,35,14,37],[14,39,14,41],[14,43,14,45],[11,54,11,57],[11,58,11,61],[11,62,11,65],[11,66,11,69],[12,54,12,57],[12,58,12,61],[12,62,12,65],[12,66,12,69],[6,67,6,69],[7,66,7,69],[8,66,8,69],[9,66,9,69],[10,55,10,57],[10,59,10,61],[10,63,10,65],[10,67,10,69]]}
[]
[]
[null,null,null,"名前",null,null,"あ",null,null,null,"い",null,null,null,"う",null,null,null,"え",null,null,null,"お",null,null,null,"か",null,null,null,"き",null,null,null,"く",null,null,null,"け",null,null,null,"こ",null,null,null,"さ",null,null,null,"し",null,null,null,"す",null,null,null,"せ",null,null,null,"そ",null,null,null,"た",null,null,null,"ち"]
[null,null,"人口密度（人/km2）"]
[null,null,"人口（人）"]
[null,null,"面積（km2）"]
[null,null,"A",null,null,null,null,null,null,null,null,null,null,null,null,null,null,null,null,null,null,null,null,null,null,null,null,null,null,null,null,null,null,null,null,null,null,null,null,null,null,null,null,null,null,null,null,null,null,null,null,null,null,null,null,null,null,null,null,null,null,null,null,null,null,null,1,{"$f":"VLOOKUP(BO7,市町村データ!A2:AX48,MATCH(手順書_人口密度!$H$52, 市町村データ!A1:AX1, 0),FALSE)","v":"北海道"},null,null,null,null,null,"以上",null,null,"背景色"]
[null,null,null,null,null,null,null,null,null,null,null,null,null,null,null,null,null,null,null,null,null,null,null,null,null,null,null,null,null,null,null,null,null,null,null,null,null,null,null,null,null,null,null,null,null,null,null,null,null,null,null,null,null,null,null,null,null,null,null,null,null,null,null,null,null,null,{"$f":"VLOOKUP(BO7,市町村データ!A2:AX48,MATCH(手順書_人口密度!$G$53, 市町村データ!A1:AX1, 0),FALSE)","v":66.599999999999994},null,null,null,null,null,null,5000]
[null,null,null,null,null,null,null,null,null,null,null,null,null,null,null,null,null,null,null,null,null,null,null,null,null,null,null,null,null,null,null,null,null,null,null,null,null,null,null,null,null,null,null,null,null,null,null,null,null,null,null,null,null,null,null,null,null,null,null,null,null,null,null,null,null,null,{"$f":"VLOOKUP(BO7,市町村データ!A2:AX48,MATCH(手順書_人口密度!$G$54, 市町村データ!A1:AX1, 0),FALSE)","v":5224614},null,null,null,null,null,null,2500]
[null,null,null,null,null,null,null,null,null,null,null,null,null,null,null,null,null,null,null,null,null,null,null,null,null,null,null,null,null,null,null,null,null,null,null,null,null,null,null,null,null,null,null,null,null,null,null,null,null,null,null,null,null,null,null,null,null,null,null,null,null,null,null,null,null,null,{"$f":"VLOOKUP(BO7,市町村データ!A2:AX48,MATCH(手順書_人口密度!$G$55, 市町村データ!A1:AX1, 0),FALSE)","v":83424.44},null,null,null,null,null,null,1250]
[null,null,"B",null,null,null,null,null,null,null,null,null,null,null,null,null,null,null,null,null,null,null,null,null,null,null,null,null,null,null,null,null,null,null,null,null,null,null,null,null,null,null,null,null,null,null,null,null,null,null,null,null,null,null,11,{"$f":"VLOOKUP(BC11,市町村データ!A2:AX48,MATCH(手順書_人口密度!$H$52, 市町村データ!A1:AX1, 0),FALSE)","v":"新潟"},null,null,7,{"$f":"VLOOKUP(BG11,市町村データ!A2:AX48,MATCH(手順書_人口密度!$H$52, 市町村データ!A1:AX1, 0),FALSE)","v":"山形"},null,null,4,{"$f":"VLOOKUP(BK11,市町村データ!A2:AX48,MATCH(手順書_人口密度!$H$52, 市町村データ!A1:AX1, 0),FALSE)","v":"秋田"},null,null,2,{"$f":"VLOOKUP(BO11,市町村データ!A2:AX48,MATCH(手順書_人口密度!$H$52, 市町村データ!A1:AX1, 0),FALSE)","v":"青森"},null,null,null,null,null,1000]
[null,null,null,null,null,null,null,null,null,null,null,null,null,null,null,null,null,null,null,null,null,null,null,null,null,null,null,null,null,null,null,null,null,null,null,null,null,null,null,null,null,null,null,null,null,null,null,null,null,null,null,null,null,null,{"$f":"VLOOKUP(BC11,市町村データ!A2:AX48,MATCH(手順書_人口密度!$G$53, 市町村データ!A1:AX1, 0),FALSE)","v":174.9},null,null,null,{"$f":"VLOOKUP(BG11,市町村データ!A2:AX48,MATCH(手順書_人口密度!$G$53, 市町村データ!A1:AX1, 0),FALSE)","v":114.6},null,null,null,{"$f":"VLOOKUP(BK11,市町村データ!A2:AX48,MATCH(手順書_人口密度!$G$53, 市町村データ!A1:AX1, 0),FALSE)","v":82.4},null,null,null,{"$f":"VLOOKUP(BO11,市町村データ!A2:AX48,MATCH(手順書_人口密度!$G$53, 市町村データ!A1:AX1, 0),FALSE)","v":128.30000000000001},null,null,null,null,null,null,750]
[null,null,null,null,null,null,null,null,null,null,null,null,null,null,null,null,null,null,null,null,null,null,null,null,null,null,null,null,null,null,null,null,null,null,null,null,null,null,null,null,null,null,null,null,null,null,null,null,null,null,null,null,null,null,{"$f":"VLOOKUP(BC11,市町村データ!A2:AX48,MATCH(手順書_人口密度!$G$54, 市町村データ!A1:AX1, 0),FALSE)","v":2201272},null,null,null,{"$f":"VLOOKUP(BG11,市町村データ!A2:AX48,MATCH(手順書_人口密度!$G$54, 市町村データ!A1:AX1, 0),FALSE)","v":1068027},null,null,null,{"$f":"VLOOKUP(BK11,市町村データ!A2:AX48,MATCH(手順書_人口密度!$G$54, 市町村データ!A1:AX1, 0),FALSE)","v":959502},null,null,null,{"$f":"VLOOKUP(BO11,市町村データ!A2:AX48,MATCH(手順書_人口密度!$G$54, 市町村データ!A1:AX1, 0),FALSE)","v":1237984},null,null,null,null,null,null,500]
[null,null,null,null,null,null,null,null,null,null,null,null,null,null,null,null,null,null,null,null,null,null,null,null,null,null,null,null,null,null,null,null,null,null,null,null,null,null,null,null,null,null,null,null,null,null,null,null,null,null,null,null,null,null,{"$f":"VLOOKUP(BC11,市町村データ!A2:AX48,MATCH(手順書_人口密度!$G$55, 市町村データ!A1:AX1, 0),FALSE)","v":12583.96},null,null,null,{"$f":"VLOOKUP(BG11,市町村データ!A2:AX48,MATCH(手順書_人口密度!$G$55, 市町村データ!A1:AX1, 0),FALSE)","v":9323.15},null,null,null,{"$f":"VLOOKUP(BK11,市町村データ!A2:AX48,MATCH(手順書_人口密度!$G$55, 市町村データ!A1:AX1, 0),FALSE)","v":11637.52},null,null,null,{"$f":"VLOOKUP(BO11,市町村データ!A2:AX48,MATCH(手順書_人口密度!$G$55, 市町村データ!A1:AX1, 0),FALSE)","v":9645.64},null,null,null,null,null,null,250]
[null,null,"C",null,null,null,null,null,null,null,null,null,null,null,null,null,null,null,35,{"$f":"VLOOKUP(S15,市町村データ!A2:AX48,MATCH(手順書_人口密度!$H$52, 市町村データ!A1:AX1, 0),FALSE)","v":"島根"},null,null,31,{"$f":"VLOOKUP(W15,市町村データ!A2:AX48,MATCH(手順書_人口密度!$H$52, 市町村データ!A1:AX1, 0),FALSE)","v":"鳥取"},null,null,null,null,null,null,27,{"$f":"VLOOKUP(AE15,市町村データ!A2:AX48,MATCH(手順書_人口密度!$H$52, 市町村データ!A1:AX1, 0),FALSE)","v":"京都"},null,null,25,{"$f":"VLOOKUP(AI15,市町村データ!A2:AX48,MATCH(手順書_人口密度!$H$52, 市町村データ!A1:AX1, 0),FALSE)","v":"福井"},null,null,22,{"$f":"VLOOKUP(AM15,市町村データ!A2:AX48,MATCH(手順書_人口密度!$H$52, 市町村データ!A1:AX1, 0),FALSE)","v":"石川"},null,null,19,{"$f":"VLOOKUP(AQ15,市町村データ!A2:AX48,MATCH(手順書_人口密度!$H$52, 市町村データ!A1:AX1, 0),FALSE)","v":"富山"},null,null,null,null,null,null,null,null,null,null,12,{"$f":"VLOOKUP(BC15,市町村データ!A2:AX48,MATCH(手順書_人口密度!$H$52, 市町村データ!A1:AX1, 0),FALSE)","v":"群馬"},null,null,8,{"$f":"VLOOKUP(BG15,市町村データ!A2:AX48,MATCH(手順書_人口密度!$H$52, 市町村データ!A1:AX1, 0),FALSE)","v":"福島"},null,null,5,{"$f":"VLOOKUP(BK15,市町村データ!A2:AX48,MATCH(手順書_人口密度!$H$52, 市町村データ!A1:AX1, 0),FALSE)","v":"宮城"},null,null,3,{"$f":"VLOOKUP(BO15,市町村データ!A2:AX48,MATCH(手順書_人口密度!$H$52, 市町村データ!A1:AX1, 0),FALSE)","v":"岩手"},null,null,null,null,null,125]
[null,null,null,null,null,null,null,null,null,null,null,null,null,null,null,null,null,null,{"$f":"VLOOKUP(S15,市町村データ!A2:AX48,MATCH(手順書_人口密度!$G$53, 市町村データ!A1:AX1, 0),FALSE)","v":100.1},null,null,null,{"$f":"VLOOKUP(W15,市町村データ!A2:AX48,MATCH(手順書_人口密度!$G$53, 市町村データ!A1:AX1, 0),FALSE)","v":157.80000000000001},null,null,null,null,null,null,null,{"$f":"VLOOKUP(AE15,市町村データ!A2:AX48,MATCH(手順書_人口密度!$G$53, 市町村データ!A1:AX1, 0),FALSE)","v":559},null,null,null,{"$f":"VLOOKUP(AI15,市町村データ!A2:AX48,MATCH(手順書_人口密度!$G$53, 市町村データ!A1:AX1, 0),FALSE)","v":183},null,null,null,{"$f":"VLOOKUP(AM15,市町村データ!A2:AX48,MATCH(手順書_人口密度!$G$53, 市町村データ!A1:AX1, 0),FALSE)","v":270.5},null,null,null,{"$f":"VLOOKUP(AQ15,市町村データ!A2:AX48,MATCH(手順書_人口密度!$G$53, 市町村データ!A1:AX1, 0),FALSE)","v":243.6},null,null,null,null,null,null,null,null,null,null,null,{"$f":"VLOOKUP(BC15,市町村データ!A2:AX48,MATCH(手順書_人口密度!$G$53, 市町村データ!A1:AX1, 0),FALSE)","v":304.8},null,null,null,{"$f":"VLOOKUP(BG15,市町村データ!A2:AX48,MATCH(手順書_人口密度!$G$53, 市町村データ!A1:AX1, 0),FALSE)","v":133},null,null,null,{"$f":"VLOOKUP(BK15,市町村データ!A2:AX48,MATCH(手順書_人口密度!$G$53, 市町村データ!A1:AX1, 0),FALSE)","v":316.10000000000002},null,null,null,{"$f":"VLOOKUP(BO15,市町村データ!A2:AX48,MATCH(手順書_人口密度!$G$53, 市町村データ!A1:AX1, 0),FALSE)","v":79.2},null,null,null,null,null,null,100]
[null,null,null,null,null,null,null,null,null,null,null,null,null,null,null,null,null,null,{"$f":"VLOOKUP(S15,市町村データ!A2:AX48,MATCH(手順書_人口密度!$G$54, 市町村データ!A1:AX1, 0),FALSE)","v":671126},null,null,null,{"$f":"VLOOKUP(W15,市町村データ!A2:AX48,MATCH(手順書_人口密度!$G$54, 市町村データ!A1:AX1, 0),FALSE)","v":553407},null,null,null,null,null,null,null,{"$f":"VLOOKUP(AE15,市町村データ!A2:AX48,MATCH(手順書_人口密度!$G$54, 市町村データ!A1:AX1, 0),FALSE)","v":2578087},null,null,null,{"$f":"VLOOKUP(AI15,市町村データ!A2:AX48,MATCH(手順書_人口密度!$G$54, 市町村データ!A1:AX1, 0),FALSE)","v":766863},null,null,null,{"$f":"VLOOKUP(AM15,市町村データ!A2:AX48,MATCH(手順書_人口密度!$G$54, 市町村データ!A1:AX1, 0),FALSE)","v":1132526},null,null,null,{"$f":"VLOOKUP(AQ15,市町村データ!A2:AX48,MATCH(手順書_人口密度!$G$54, 市町村データ!A1:AX1, 0),FALSE)","v":1034814},null,null,null,null,null,null,null,null,null,null,null,{"$f":"VLOOKUP(BC15,市町村データ!A2:AX48,MATCH(手順書_人口密度!$G$54, 市町村データ!A1:AX1, 0),FALSE)","v":1939110},null,null,null,{"$f":"VLOOKUP(BG15,市町村データ!A2:AX48,MATCH(手順書_人口密度!$G$54, 市町村データ!A1:AX1, 0),FALSE)","v":1833152},null,null,null,{"$f":"VLOOKUP(BK15,市町村データ!A2:AX48,MATCH(手順書_人口密度!$G$54, 市町村データ!A1:AX1, 0),FALSE)","v":2301996},null,null,null,{"$f":"VLOOKUP(BO15,市町村データ!A2:AX48,MATCH(手順書_人口密度!$G$54, 市町村データ!A1:AX1, 0),FALSE)","v":1210534},null,null,null,null,null,null,50]
[null,null,null,null,null,null,null,null,null,null,null,null,null,null,null,null,null,null,{"$f":"VLOOKUP(S15,市町村データ!A2:AX48,MATCH(手順書_人口密度!$G$55, 市町村データ!A1:AX1, 0),FALSE)","v":6707.89},null,null,null,{"$f":"VLOOKUP(W15,市町村データ!A2:AX48,MATCH(手順書_人口密度!$G$55, 市町村データ!A1:AX1, 0),FALSE)","v":3507.14},null,null,null,null,null,null,null,{"$f":"VLOOKUP(AE15,市町村データ!A2:AX48,MATCH(手順書_人口密度!$G$55, 市町村データ!A1:AX1, 0),FALSE)","v":4612.2},null,null,null,{"$f":"VLOOKUP(AI15,市町村データ!A2:AX48,MATCH(手順書_人口密度!$G$55, 市町村データ!A1:AX1, 0),FALSE)","v":4190.5200000000004},null,null,null,{"$f":"VLOOKUP(AM15,市町村データ!A2:AX48,MATCH(手順書_人口密度!$G$55, 市町村データ!A1:AX1, 0),FALSE)","v":4186.21},null,null,null,{"$f":"VLOOKUP(AQ15,市町村データ!A2:AX48,MATCH(手順書_人口密度!$G$55, 市町村データ!A1:AX1, 0),FALSE)","v":4247.58},null,null,null,null,null,null,null,null,null,null,null,{"$f":"VLOOKUP(BC15,市町村データ!A2:AX48,MATCH(手順書_人口密度!$G$55, 市町村データ!A1:AX1, 0),FALSE)","v":6362.28},null,null,null,{"$f":"VLOOKUP(BG15,市町村データ!A2:AX48,MATCH(手順書_人口密度!$G$55, 市町村データ!A1:AX1, 0),FALSE)","v":13784.14},null,null,null,{"$f":"VLOOKUP(BK15,市町村データ!A2:AX48,MATCH(手順書_人口密度!$G$55, 市町村データ!A1:AX1, 0),FALSE)","v":7282.29},null,null,null,{"$f":"VLOOKUP(BO15,市町村データ!A2:AX48,MATCH(手順書_人口密度!$G$55, 市町村データ!A1:AX1, 0),FALSE)","v":15275.01},null,null,null,null,null,null,0]
[null,null,"D",null,null,null,44,{"$f":"VLOOKUP(G19,市町村データ!A2:AX48,MATCH(手順書_人口密度!$H$52, 市町村データ!A1:AX1, 0),FALSE)","v":"佐賀"},null,null,40,{"$f":"VLOOKUP(K19,市町村データ!A2:AX48,MATCH(手順書_人口密度!$H$52, 市町村データ!A1:AX1, 0),FALSE)","v":"福岡"},null,null,39,{"$f":"VLOOKUP(O19,市町村データ!A2:AX48,MATCH(手順書_人口密度!$H$52, 市町村データ!A1:AX1, 0),FALSE)","v":"山口"},null,null,36,{"$f":"VLOOKUP(S19,市町村データ!A2:AX48,MATCH(手順書_人口密度!$H$52, 市町村データ!A1:AX1, 0),FALSE)","v":"広島"},null,null,32,{"$f":"VLOOKUP(W19,市町村データ!A2:AX48,MATCH(手順書_人口密度!$H$52, 市町村データ!A1:AX1, 0),FALSE)","v":"岡山"},null,null,30,{"$f":"VLOOKUP(AA19,市町村データ!A2:AX48,MATCH(手順書_人口密度!$H$52, 市町村データ!A1:AX1, 0),FALSE)","v":"兵庫"},null,null,28,{"$f":"VLOOKUP(AE19,市町村データ!A2:AX48,MATCH(手順書_人口密度!$H$52, 市町村データ!A1:AX1, 0),FALSE)","v":"大阪"},null,null,26,{"$f":"VLOOKUP(AI19,市町村データ!A2:AX48,MATCH(手順書_人口密度!$H$52, 市町村データ!A1:AX1, 0),FALSE)","v":"奈良"},null,null,23,{"$f":"VLOOKUP(AM19,市町村データ!A2:AX48,MATCH(手順書_人口密度!$H$52, 市町村データ!A1:AX1, 0),FALSE)","v":"滋賀"},null,null,20,{"$f":"VLOOKUP(AQ19,市町村データ!A2:AX48,MATCH(手順書_人口密度!$H$52, 市町村データ!A1:AX1, 0),FALSE)","v":"岐阜"},null,null,17,{"$f":"VLOOKUP(AU19,市町村データ!A2:AX48,MATCH(手順書_人口密度!$H$52, 市町村データ!A1:AX1, 0),FALSE)","v":"長野"},null,null,15,{"$f":"VLOOKUP(AY19,市町村データ!A2:AX48,MATCH(手順書_人口密度!$H$52, 市町村データ!A1:AX1, 0),FALSE)","v":"山梨"},null,null,13,{"$f":"VLOOKUP(BC19,市町村データ!A2:AX48,MATCH(手順書_人口密度!$H$52, 市町村データ!A1:AX1, 0),FALSE)","v":"埼玉"},null,null,9,{"$f":"VLOOKUP(BG19,市町村データ!A2:AX48,MATCH(手順書_人口密度!$H$52, 市町村データ!A1:AX1, 0),FALSE)","v":"栃木"},null,null,6,{"$f":"VLOOKUP(BK19,市町村データ!A2:AX48,MATCH(手順書_人口密度!$H$52, 市町村データ!A1:AX1, 0),FALSE)","v":"茨城"}]
[null,null,null,null,null,null,{"$f":"VLOOKUP(G19,市町村データ!A2:AX48,MATCH(手順書_人口密度!$G$53, 市町村データ!A1:AX1, 0),FALSE)","v":332.5},null,null,null,{"$f":"VLOOKUP(K19,市町村データ!A2:AX48,MATCH(手順書_人口密度!$G$53, 市町村データ!A1:AX1, 0),FALSE)","v":1029.8},null,null,null,{"$f":"VLOOKUP(O19,市町村データ!A2:AX48,MATCH(手順書_人口密度!$G$53, 市町村データ!A1:AX1, 0),FALSE)","v":219.6},null,null,null,{"$f":"VLOOKUP(S19,市町村データ!A2:AX48,MATCH(手順書_人口密度!$G$53, 市町村データ!A1:AX1, 0),FALSE)","v":330.2},null,null,null,{"$f":"VLOOKUP(W19,市町村データ!A2:AX48,MATCH(手順書_人口密度!$G$53, 市町村データ!A1:AX1, 0),FALSE)","v":265.39999999999998},null,null,null,{"$f":"VLOOKUP(AA19,市町村データ!A2:AX48,MATCH(手順書_人口密度!$G$53, 市町村データ!A1:AX1, 0),FALSE)","v":650.5},null,null,null,{"$f":"VLOOKUP(AE19,市町村データ!A2:AX48,MATCH(手順書_人口密度!$G$53, 市町村データ!A1:AX1, 0),FALSE)","v":4638.3999999999996},null,null,null,{"$f":"VLOOKUP(AI19,市町村データ!A2:AX48,MATCH(手順書_人口密度!$G$53, 市町村データ!A1:AX1, 0),FALSE)","v":358.8},null,null,null,{"$f":"VLOOKUP(AM19,市町村データ!A2:AX48,MATCH(手順書_人口密度!$G$53, 市町村データ!A1:AX1, 0),FALSE)","v":351.9},null,null,null,{"$f":"VLOOKUP(AQ19,市町村データ!A2:AX48,MATCH(手順書_人口密度!$G$53, 市町村データ!A1:AX1, 0),FALSE)","v":186.3},null,null,null,{"$f":"VLOOKUP(AU19,市町村データ!A2:AX48,MATCH(手順書_人口密度!$G$53, 市町村データ!A1:AX1, 0),FALSE)","v":151},null,null,null,{"$f":"VLOOKUP(AY19,市町村データ!A2:AX48,MATCH(手順書_人口密度!$G$53, 市町村データ!A1:AX1, 0),FALSE)","v":181.4},null,null,null,{"$f":"VLOOKUP(BC19,市町村データ!A2:AX48,MATCH(手順書_人口密度!$G$53, 市町村データ!A1:AX1, 0),FALSE)","v":1934},null,null,null,{"$f":"VLOOKUP(BG19,市町村データ!A2:AX48,MATCH(手順書_人口密度!$G$53, 市町村データ!A1:AX1, 0),FALSE)","v":301.7},null,null,null,{"$f":"VLOOKUP(BK19,市町村データ!A2:AX48,MATCH(手順書_人口密度!$G$53, 市町村データ!A1:AX1, 0),FALSE)","v":470.2}]
[null,null,null,null,null,null,{"$f":"VLOOKUP(G19,市町村データ!A2:AX48,MATCH(手順書_人口密度!$G$54, 市町村データ!A1:AX1, 0),FALSE)","v":811442},null,null,null,{"$f":"VLOOKUP(K19,市町村データ!A2:AX48,MATCH(手順書_人口密度!$G$54, 市町村データ!A1:AX1, 0),FALSE)","v":5135214},null,null,null,{"$f":"VLOOKUP(O19,市町村データ!A2:AX48,MATCH(手順書_人口密度!$G$54, 市町村データ!A1:AX1, 0),FALSE)","v":1342059},null,null,null,{"$f":"VLOOKUP(S19,市町村データ!A2:AX48,MATCH(手順書_人口密度!$G$54, 市町村データ!A1:AX1, 0),FALSE)","v":2799702},null,null,null,{"$f":"VLOOKUP(W19,市町村データ!A2:AX48,MATCH(手順書_人口密度!$G$54, 市町村データ!A1:AX1, 0),FALSE)","v":1888432},null,null,null,{"$f":"VLOOKUP(AA19,市町村データ!A2:AX48,MATCH(手順書_人口密度!$G$54, 市町村データ!A1:AX1, 0),FALSE)","v":5465002},null,null,null,{"$f":"VLOOKUP(AE19,市町村データ!A2:AX48,MATCH(手順書_人口密度!$G$54, 市町村データ!A1:AX1, 0),FALSE)","v":8837685},null,null,null,{"$f":"VLOOKUP(AI19,市町村データ!A2:AX48,MATCH(手順書_人口密度!$G$54, 市町村データ!A1:AX1, 0),FALSE)","v":1324473},null,null,null,{"$f":"VLOOKUP(AM19,市町村データ!A2:AX48,MATCH(手順書_人口密度!$G$54, 市町村データ!A1:AX1, 0),FALSE)","v":1413610},null,null,null,{"$f":"VLOOKUP(AQ19,市町村データ!A2:AX48,MATCH(手順書_人口密度!$G$54, 市町村データ!A1:AX1, 0),FALSE)","v":1978742},null,null,null,{"$f":"VLOOKUP(AU19,市町村データ!A2:AX48,MATCH(手順書_人口密度!$G$54, 市町村データ!A1:AX1, 0),FALSE)","v":2048011},null,null,null,{"$f":"VLOOKUP(AY19,市町村データ!A2:AX48,MATCH(手順書_人口密度!$G$54, 市町村データ!A1:AX1, 0),FALSE)","v":809974},null,null,null,{"$f":"VLOOKUP(BC19,市町村データ!A2:AX48,MATCH(手順書_人口密度!$G$54, 市町村データ!A1:AX1, 0),FALSE)","v":7344765},null,null,null,{"$f":"VLOOKUP(BG19,市町村データ!A2:AX48,MATCH(手順書_人口密度!$G$54, 市町村データ!A1:AX1, 0),FALSE)","v":1933146},null,null,null,{"$f":"VLOOKUP(BK19,市町村データ!A2:AX48,MATCH(手順書_人口密度!$G$54, 市町村データ!A1:AX1, 0),FALSE)","v":2867009}]
[null,null,null,null,null,null,{"$f":"VLOOKUP(G19,市町村データ!A2:AX48,MATCH(手順書_人口密度!$G$55, 市町村データ!A1:AX1, 0),FALSE)","v":2440.69},null,null,null,{"$f":"VLOOKUP(K19,市町村データ!A2:AX48,MATCH(手順書_人口密度!$G$55, 市町村データ!A1:AX1, 0),FALSE)","v":4986.51},null,null,null,{"$f":"VLOOKUP(O19,市町村データ!A2:AX48,MATCH(手順書_人口密度!$G$55, 市町村データ!A1:AX1, 0),FALSE)","v":6112.54},null,null,null,{"$f":"VLOOKUP(S19,市町村データ!A2:AX48,MATCH(手順書_人口密度!$G$55, 市町村データ!A1:AX1, 0),FALSE)","v":8479.65},null,null,null,{"$f":"VLOOKUP(W19,市町村データ!A2:AX48,MATCH(手順書_人口密度!$G$55, 市町村データ!A1:AX1, 0),FALSE)","v":7114.33},null,null,null,{"$f":"VLOOKUP(AA19,市町村データ!A2:AX48,MATCH(手順書_人口密度!$G$55, 市町村データ!A1:AX1, 0),FALSE)","v":8401.02},null,null,null,{"$f":"VLOOKUP(AE19,市町村データ!A2:AX48,MATCH(手順書_人口密度!$G$55, 市町村データ!A1:AX1, 0),FALSE)","v":1905.32},null,null,null,{"$f":"VLOOKUP(AI19,市町村データ!A2:AX48,MATCH(手順書_人口密度!$G$55, 市町村データ!A1:AX1, 0),FALSE)","v":3690.94},null,null,null,{"$f":"VLOOKUP(AM19,市町村データ!A2:AX48,MATCH(手順書_人口密度!$G$55, 市町村データ!A1:AX1, 0),FALSE)","v":4017.38},null,null,null,{"$f":"VLOOKUP(AQ19,市町村データ!A2:AX48,MATCH(手順書_人口密度!$G$55, 市町村データ!A1:AX1, 0),FALSE)","v":10621.29},null,null,null,{"$f":"VLOOKUP(AU19,市町村データ!A2:AX48,MATCH(手順書_人口密度!$G$55, 市町村データ!A1:AX1, 0),FALSE)","v":13561.56},null,null,null,{"$f":"VLOOKUP(AY19,市町村データ!A2:AX48,MATCH(手順書_人口密度!$G$55, 市町村データ!A1:AX1, 0),FALSE)","v":4465.2700000000004},null,null,null,{"$f":"VLOOKUP(BC19,市町村データ!A2:AX48,MATCH(手順書_人口密度!$G$55, 市町村データ!A1:AX1, 0),FALSE)","v":3797.75},null,null,null,{"$f":"VLOOKUP(BG19,市町村データ!A2:AX48,MATCH(手順書_人口密度!$G$55, 市町村データ!A1:AX1, 0),FALSE)","v":6408.09},null,null,null,{"$f":"VLOOKUP(BK19,市町村データ!A2:AX48,MATCH(手順書_人口密度!$G$55, 市町村データ!A1:AX1, 0),FALSE)","v":6097.39}]
[null,null,"E",null,null,null,45,{"$f":"VLOOKUP(G23,市町村データ!A2:AX48,MATCH(手順書_人口密度!$H$52, 市町村データ!A1:AX1, 0),FALSE)","v":"長崎"},null,null,41,{"$f":"VLOOKUP(K23,市町村データ!A2:AX48,MATCH(手順書_人口密度!$H$52, 市町村データ!A1:AX1, 0),FALSE)","v":"大分"},null,null,null,null,null,null,37,{"$f":"VLOOKUP(S23,市町村データ!A2:AX48,MATCH(手順書_人口密度!$H$52, 市町村データ!A1:AX1, 0),FALSE)","v":"愛媛"},null,null,33,{"$f":"VLOOKUP(W23,市町村データ!A2:AX48,MATCH(手順書_人口密度!$H$52, 市町村データ!A1:AX1, 0),FALSE)","v":"香川"},null,null,null,null,null,null,29,{"$f":"VLOOKUP(AE23,市町村データ!A2:AX48,MATCH(手順書_人口密度!$H$52, 市町村データ!A1:AX1, 0),FALSE)","v":"和歌山"},null,null,null,null,null,null,24,{"$f":"VLOOKUP(AM23,市町村データ!A2:AX48,MATCH(手順書_人口密度!$H$52, 市町村データ!A1:AX1, 0),FALSE)","v":"三重"},null,null,21,{"$f":"VLOOKUP(AQ23,市町村データ!A2:AX48,MATCH(手順書_人口密度!$H$52, 市町村データ!A1:AX1, 0),FALSE)","v":"愛知"},null,null,18,{"$f":"VLOOKUP(AU23,市町村データ!A2:AX48,MATCH(手順書_人口密度!$H$52, 市町村データ!A1:AX1, 0),FALSE)","v":"静岡"},null,null,16,{"$f":"VLOOKUP(AY23,市町村データ!A2:AX48,MATCH(手順書_人口密度!$H$52, 市町村データ!A1:AX1, 0),FALSE)","v":"神奈川"},null,null,14,{"$f":"VLOOKUP(BC23,市町村データ!A2:AX48,MATCH(手順書_人口密度!$H$52, 市町村データ!A1:AX1, 0),FALSE)","v":"東京"},null,null,10,{"$f":"VLOOKUP(BG23,市町村データ!A2:AX48,MATCH(手順書_人口密度!$H$52, 市町村データ!A1:AX1, 0),FALSE)","v":"千葉"}]
[null,null,null,null,null,null,{"$f":"VLOOKUP(G23,市町村データ!A2:AX48,MATCH(手順書_人口密度!$G$53, 市町村データ!A1:AX1, 0),FALSE)","v":317.7},null,null,null,{"$f":"VLOOKUP(K23,市町村データ!A2:AX48,MATCH(手順書_人口密度!$G$53, 市町村データ!A1:AX1, 0),FALSE)","v":177.2},null,null,null,null,null,null,null,{"$f":"VLOOKUP(S23,市町村データ!A2:AX48,MATCH(手順書_人口密度!$G$53, 市町村データ!A1:AX1, 0),FALSE)","v":235.2},null,null,null,{"$f":"VLOOKUP(W23,市町村データ!A2:AX48,MATCH(手順書_人口密度!$G$53, 市町村データ!A1:AX1, 0),FALSE)","v":506.3},null,null,null,null,null,null,null,{"$f":"VLOOKUP(AE23,市町村データ!A2:AX48,MATCH(手順書_人口密度!$G$53, 市町村データ!A1:AX1, 0),FALSE)","v":195.3},null,null,null,null,null,null,null,{"$f":"VLOOKUP(AM23,市町村データ!A2:AX48,MATCH(手順書_人口密度!$G$53, 市町村データ!A1:AX1, 0),FALSE)","v":306.60000000000002},null,null,null,{"$f":"VLOOKUP(AQ23,市町村データ!A2:AX48,MATCH(手順書_人口密度!$G$53, 市町村データ!A1:AX1, 0),FALSE)","v":1458},null,null,null,{"$f":"VLOOKUP(AU23,市町村データ!A2:AX48,MATCH(手順書_人口密度!$G$53, 市町村データ!A1:AX1, 0),FALSE)","v":467.2},null,null,null,{"$f":"VLOOKUP(AY23,市町村データ!A2:AX48,MATCH(手順書_人口密度!$G$53, 市町村データ!A1:AX1, 0),FALSE)","v":3823.2},null,null,null,{"$f":"VLOOKUP(BC23,市町村データ!A2:AX48,MATCH(手順書_人口密度!$G$53, 市町村データ!A1:AX1, 0),FALSE)","v":6402.6},null,null,null,{"$f":"VLOOKUP(BG23,市町村データ!A2:AX48,MATCH(手順書_人口密度!$G$53, 市町村データ!A1:AX1, 0),FALSE)","v":1218.5}]
[null,null,null,null,null,null,{"$f":"VLOOKUP(G23,市町村データ!A2:AX48,MATCH(手順書_人口密度!$G$54, 市町村データ!A1:AX1, 0),FALSE)","v":1312317},null,null,null,{"$f":"VLOOKUP(K23,市町村データ!A2:AX48,MATCH(手順書_人口密度!$G$54, 市町村データ!A1:AX1, 0),FALSE)","v":1123852},null,null,null,null,null,null,null,{"$f":"VLOOKUP(S23,市町村データ!A2:AX48,MATCH(手順書_人口密度!$G$54, 市町村データ!A1:AX1, 0),FALSE)","v":1334841},null,null,null,{"$f":"VLOOKUP(W23,市町村データ!A2:AX48,MATCH(手順書_人口密度!$G$54, 市町村データ!A1:AX1, 0),FALSE)","v":950244},null,null,null,null,null,null,null,{"$f":"VLOOKUP(AE23,市町村データ!A2:AX48,MATCH(手順書_人口密度!$G$54, 市町村データ!A1:AX1, 0),FALSE)","v":922584},null,null,null,null,null,null,null,{"$f":"VLOOKUP(AM23,市町村データ!A2:AX48,MATCH(手順書_人口密度!$G$54, 市町村データ!A1:AX1, 0),FALSE)","v":1770254},null,null,null,{"$f":"VLOOKUP(AQ23,市町村データ!A2:AX48,MATCH(手順書_人口密度!$G$54, 市町村データ!A1:AX1, 0),FALSE)","v":7542415},null,null,null,{"$f":"VLOOKUP(AU23,市町村データ!A2:AX48,MATCH(手順書_人口密度!$G$54, 市町村データ!A1:AX1, 0),FALSE)","v":3633202},null,null,null,{"$f":"VLOOKUP(AY23,市町村データ!A2:AX48,MATCH(手順書_人口密度!$G$54, 市町村データ!A1:AX1, 0),FALSE)","v":9237337},null,null,null,{"$f":"VLOOKUP(BC23,市町村データ!A2:AX48,MATCH(手順書_人口密度!$G$54, 市町村データ!A1:AX1, 0),FALSE)","v":14047594},null,null,null,{"$f":"VLOOKUP(BG23,市町村データ!A2:AX48,MATCH(手順書_人口密度!$G$54, 市町村データ!A1:AX1, 0),FALSE)","v":6284480}]
[null,null,null,null,null,null,{"$f":"VLOOKUP(G23,市町村データ!A2:AX48,MATCH(手順書_人口密度!$G$55, 市町村データ!A1:AX1, 0),FALSE)","v":4130.9799999999996},null,null,null,{"$f":"VLOOKUP(K23,市町村データ!A2:AX48,MATCH(手順書_人口密度!$G$55, 市町村データ!A1:AX1, 0),FALSE)","v":6340.76},null,null,null,null,null,null,null,{"$f":"VLOOKUP(S23,市町村データ!A2:AX48,MATCH(手順書_人口密度!$G$55, 市町村データ!A1:AX1, 0),FALSE)","v":5676.19},null,null,null,{"$f":"VLOOKUP(W23,市町村データ!A2:AX48,MATCH(手順書_人口密度!$G$55, 市町村データ!A1:AX1, 0),FALSE)","v":1876.78},null,null,null,null,null,null,null,{"$f":"VLOOKUP(AE23,市町村データ!A2:AX48,MATCH(手順書_人口密度!$G$55, 市町村データ!A1:AX1, 0),FALSE)","v":4724.6499999999996},null,null,null,null,null,null,null,{"$f":"VLOOKUP(AM23,市町村データ!A2:AX48,MATCH(手順書_人口密度!$G$55, 市町村データ!A1:AX1, 0),FALSE)","v":5774.49},null,null,null,{"$f":"VLOOKUP(AQ23,市町村データ!A2:AX48,MATCH(手順書_人口密度!$G$55, 市町村データ!A1:AX1, 0),FALSE)","v":5173.07},null,null,null,{"$f":"VLOOKUP(AU23,市町村データ!A2:AX48,MATCH(手順書_人口密度!$G$55, 市町村データ!A1:AX1, 0),FALSE)","v":7777.35},null,null,null,{"$f":"VLOOKUP(AY23,市町村データ!A2:AX48,MATCH(手順書_人口密度!$G$55, 市町村データ!A1:AX1, 0),FALSE)","v":2416.11},null,null,null,{"$f":"VLOOKUP(BC23,市町村データ!A2:AX48,MATCH(手順書_人口密度!$G$55, 市町村データ!A1:AX1, 0),FALSE)","v":2194.0300000000002},null,null,null,{"$f":"VLOOKUP(BG23,市町村データ!A2:AX48,MATCH(手順書_人口密度!$G$55, 市町村データ!A1:AX1, 0),FALSE)","v":5157.57}]
[null,null,"F",null,null,null,46,{"$f":"VLOOKUP(G27,市町村データ!A2:AX48,MATCH(手順書_人口密度!$H$52, 市町村データ!A1:AX1, 0),FALSE)","v":"熊本"},null,null,42,{"$f":"VLOOKUP(K27,市町村データ!A2:AX48,MATCH(手順書_人口密度!$H$52, 市町村データ!A1:AX1, 0),FALSE)","v":"宮崎"},null,null,null,null,null,null,38,{"$f":"VLOOKUP(S27,市町村データ!A2:AX48,MATCH(手順書_人口密度!$H$52, 市町村データ!A1:AX1, 0),FALSE)","v":"高知"},null,null,34,{"$f":"VLOOKUP(W27,市町村データ!A2:AX48,MATCH(手順書_人口密度!$H$52, 市町村データ!A1:AX1, 0),FALSE)","v":"徳島"}]
[null,null,null,null,null,null,{"$f":"VLOOKUP(G27,市町村データ!A2:AX48,MATCH(手順書_人口密度!$G$53, 市町村データ!A1:AX1, 0),FALSE)","v":234.6},null,null,null,{"$f":"VLOOKUP(K27,市町村データ!A2:AX48,MATCH(手順書_人口密度!$G$53, 市町村データ!A1:AX1, 0),FALSE)","v":138.30000000000001},null,null,null,null,null,null,null,{"$f":"VLOOKUP(S27,市町村データ!A2:AX48,MATCH(手順書_人口密度!$G$53, 市町村データ!A1:AX1, 0),FALSE)","v":97.3},null,null,null,{"$f":"VLOOKUP(W27,市町村データ!A2:AX48,MATCH(手順書_人口密度!$G$53, 市町村データ!A1:AX1, 0),FALSE)","v":173.5}]
[null,null,null,null,null,null,{"$f":"VLOOKUP(G27,市町村データ!A2:AX48,MATCH(手順書_人口密度!$G$54, 市町村データ!A1:AX1, 0),FALSE)","v":1738301},null,null,null,{"$f":"VLOOKUP(K27,市町村データ!A2:AX48,MATCH(手順書_人口密度!$G$54, 市町村データ!A1:AX1, 0),FALSE)","v":1069576},null,null,null,null,null,null,null,{"$f":"VLOOKUP(S27,市町村データ!A2:AX48,MATCH(手順書_人口密度!$G$54, 市町村データ!A1:AX1, 0),FALSE)","v":691527},null,null,null,{"$f":"VLOOKUP(W27,市町村データ!A2:AX48,MATCH(手順書_人口密度!$G$54, 市町村データ!A1:AX1, 0),FALSE)","v":719559}]
[null,null,null,null,null,null,{"$f":"VLOOKUP(G27,市町村データ!A2:AX48,MATCH(手順書_人口密度!$G$55, 市町村データ!A1:AX1, 0),FALSE)","v":7409.46},null,null,null,{"$f":"VLOOKUP(K27,市町村データ!A2:AX48,MATCH(手順書_人口密度!$G$55, 市町村データ!A1:AX1, 0),FALSE)","v":7735.22},null,null,null,null,null,null,null,{"$f":"VLOOKUP(S27,市町村データ!A2:AX48,MATCH(手順書_人口密度!$G$55, 市町村データ!A1:AX1, 0),FALSE)","v":7103.63},null,null,null,{"$f":"VLOOKUP(W27,市町村データ!A2:AX48,MATCH(手順書_人口密度!$G$55, 市町村データ!A1:AX1, 0),FALSE)","v":4146.75}]
[null,null,"G",null,null,null,47,{"$f":"VLOOKUP(G31,市町村データ!A2:AX48,MATCH(手順書_人口密度!$H$52, 市町村データ!A1:AX1, 0),FALSE)","v":"沖縄"},null,null,43,{"$f":"VLOOKUP(K31,市町村データ!A2:AX48,MATCH(手順書_人口密度!$H$52, 市町村データ!A1:AX1, 0),FALSE)","v":"鹿児島"}]
[null,null,null,null,null,null,{"$f":"VLOOKUP(G31,市町村データ!A2:AX48,MATCH(手順書_人口密度!$G$53, 市町村データ!A1:AX1, 0),FALSE)","v":642.9},null,null,null,{"$f":"VLOOKUP(K31,市町村データ!A2:AX48,MATCH(手順書_人口密度!$G$53, 市町村データ!A1:AX1, 0),FALSE)","v":172.9}]
[null,null,null,null,null,null,{"$f":"VLOOKUP(G31,市町村データ!A2:AX48,MATCH(手順書_人口密度!$G$54, 市町村データ!A1:AX1, 0),FALSE)","v":1467480},null,null,null,{"$f":"VLOOKUP(K31,市町村データ!A2:AX48,MATCH(手順書_人口密度!$G$54, 市町村データ!A1:AX1, 0),FALSE)","v":1588256}]
[null,null,null,null,null,null,{"$f":"VLOOKUP(G31,市町村データ!A2:AX48,MATCH(手順書_人口密度!$G$55, 市町村データ!A1:AX1, 0),FALSE)","v":2282.59},null,null,null,{"$f":"VLOOKUP(K31,市町村データ!A2:AX48,MATCH(手順書_人口密度!$G$55, 市町村データ!A1:AX1, 0),FALSE)","v":9187.06}]
[null,null,"H"]
[]
[]
[null,"［国勢調査］＞［令和２年国勢調査（総務省統計局）　都道府県・市区町村別の主な結果］"]
[null,"https://www.e-stat.go.jp/stat-search/files?page=1&layout=datalist&toukei=00200521&tstat=000001049104&cycle=0&tclass1=000001049105&tclass2val=0"]

{"sheet":"手順書_人口","index":9,"n_rows":136,"n_cols":32,"rows_kept":136,"cut":false,"hidden":false,"merged":[[103,7,103,9],[103,10,103,11],[83,7,83,9],[85,7,85,9],[86,7,86,9],[87,7,87,9],[88,7,88,9],[89,7,89,9],[90,7,90,9],[91,7,91,9],[92,7,92,9],[93,7,93,9],[94,7,94,9],[95,7,95,9],[96,7,96,9],[99,7,99,9],[93,12,93,13],[94,12,94,13],[95,12,95,13],[90,12,90,13],[91,12,91,13],[92,12,92,13],[100,7,100,9],[101,7,101,9],[97,7,97,9],[98,7,98,9],[102,7,102,9],[103,12,103,13],[85,10,85,11],[86,10,86,11],[87,10,87,11],[90,10,90,11],[93,10,93,11],[89,10,89,11],[88,10,88,11],[86,12,86,13],[85,12,85,13],[99,12,99,13],[100,12,100,13],[101,12,101,13],[96,12,96,13],[97,12,97,13],[98,12,98,13],[86,16,86,19],[87,12,87,13],[88,12,88,13],[99,10,99,11],[102,10,102,11],[92,10,92,11],[91,10,91,11],[101,10,101,11],[100,10,100,11],[95,10,95,11],[94,10,94,11],[98,10,98,11],[97,10,97,11],[96,10,96,11],[89,12,89,13],[102,12,102,13],[30,16,30,17],[84,7,84,9],[15,5,15,14],[51,7,51,9],[52,6,52,9],[53,6,53,9],[54,6,54,9],[30,5,30,14],[84,12,84,13],[83,12,83,13],[83,10,83,11],[84,10,84,11],[15,16,15,19],[83,16,83,17]]}
[null,null,null,null,null,"C1.0","C1.1.0",null,null,"C1.1.1.0",null,null,"C1.2.0",null,null,null,"C2.0",null,null,null,null,"C3.0",null,null,null,null,null,null,null,null,null,"EOL"]
[null,"手順書　＞　人口"]
[]
[null,null,null,"手順１"]
[]
[]
[]
[]
[]
[]
[]
[null,null,null,null,null,null,"転写元になる［地図テンプレート］のワークシート名等を、"]
[null,null,null,null,null,"👇","以下に入力してください。"]
[]
[null,null,null,null,null,"ワークシート名",null,null,null,null,null,null,null,null,null,null,"範囲"]
["R1.1.0",null,null,null,null,"地図テンプレート_1",null,null,null,null,null,null,null,null,null,null,"A1:CB40"]
[]
[]
[null,null,null,"手順２"]
[]
[]
[]
[]
[]
[]
[null,null,null,null,null,null,null,"地図の転写先を、"]
[null,null,null,null,null,null,"👇","入力してください。"]
[]
[null,null,null,null,null,null,"ワークシート名を間違えて上書きすると、このワークブックの機能を破損させてしまいかねますので慎重に確認してください。"]
[null,null,null,null,null,"ワークシート名",null,null,null,null,null,null,null,null,null,null,"左上隅セル"]
["R2.1.0",null,null,null,null,"自動生成_人口",null,null,null,null,null,null,null,null,null,null,"A1"]
[]
[]
[null,null,null,"手順３"]
[]
[]
[]
[]
[]
[]
[]
[]
[]
[]
[]
[null,null,null,null,null,"👇","以下は市町村１つ分の凡例です。"]
[null,null,null,null,null,null,null,null,null,null,null,null,null,null,null,"［市町村データ］",null,null,null,"ワークシートの列名を、"]
[null,null,null,null,null,null,null,null,null,null,null,null,null,null,null,"👇","以下の凡例に入れてください。"]
[null,null,null,null,null,null,"ヒートマップにするデータを１つ選んで太字にスタイル設定してください。"]
[null,null,null,null,null,null,"黄色い枠のサイズは固定です。"]
[null,null,null,null,null,null,null,null,null,null,null,null,"転写先セル"]
["R3.1.0",null,null,null,null,null,null,"名前",null,null,null,null,"C3"]
[null,null,null,null,null,null,"人口密度（人/km2）"]
[null,null,null,null,null,null,"人口（人）"]
["R3.2.0",null,null,null,null,null,"面積（km2）"]
[]
[]
[]
[null,null,null,"手順４"]
[]
[]
[]
[]
[]
[]
[]
[]
[]
[]
[]
[]
[]
[]
[]
[]
[]
[]
[]
[null,null,null,null,null,null,null,"ヒートマップの色の凡例です。"]
[null,null,null,null,null,null,"👇","以下に、［以上］列の数値と、［背景色］を設定してください。"]
[]
[null,null,null,null,null,null,"黄色い枠のサイズは固定です。"]
[null,null,null,null,null,null,"A","B","C","D","E","F","G","H",null,null,"転写先の左上隅セル"]
["R4.1.0",null,null,null,null,1,"No","以上",null,null,"背景色",null,"前景色",null,null,null,"BV7"]
[null,null,null,null,null,2,1,10000000]
[null,null,null,null,null,3,2,7500000,null,null,null,null,null,null,null,null,"転写元の範囲"]
["R4.2.0",null,null,null,null,4,3,5000000,null,null,null,null,null,null,null,null,"B1:F12"]
[null,null,null,null,null,5,4,2500000,null,null,null,null,null,null,null,null,"左の黄色い枠の番地を使ってください。"]
[null,null,null,null,null,6,5,1250000]
[null,null,null,null,null,7,6,1000000]
[null,null,null,null,null,8,7,750000]
[null,null,null,null,null,9,8,500000]
[null,null,null,null,null,10,9,250000]
[null,null,null,null,null,11,10,125000]
[null,null,null,null,null,12,11,0]
[null,null,null,null,null,13,12]
[null,null,null,null,null,14,13]
[null,null,null,null,null,15,14]
[null,null,null,null,null,16,15]
[null,null,null,null,null,17,16]
[null,null,null,null,null,18,17]
[null,null,null,null,null,19,18]
[null,null,null,null,null,20,19]
["R4.3.0",null,null,null,null,21,20]
[]
[]
[]
[null,null,null,"手順４"]
[]
[null,null,null,null,null,"👇","以下のボタンを押してください。"]
[]
[]
[]
[]
[]
[]
[]
[]
[]
[]
[]
[]
[]
[]
[]
[]
[]
[]
[]
[]
[]
[]
[null,null,null,null,null,null,null,"ワークシートが生成できたら完了です。"]
[]
[null,"以上"]
["EOF"]

{"sheet":"自動生成_人口","index":10,"n_rows":39,"n_cols":77,"rows_kept":39,"cut":false,"hidden":false,"merged":[[15,73,15,75],[15,76,15,77],[16,73,16,75],[16,76,16,77],[17,73,17,75],[17,76,17,77],[12,73,12,75],[12,76,12,77],[13,73,13,75],[13,76,13,77],[14,73,14,75],[14,76,14,77],[9,73,9,75],[9,76,9,77],[10,73,10,75],[10,76,10,77],[11,73,11,75],[11,76,11,77],[6,73,6,75],[6,76,6,77],[7,73,7,75],[7,76,7,77],[8,73,8,75],[8,76,8,77],[33,6,33,9],[33,10,33,13],[2,3,2,5],[3,2,3,5],[4,2,4,5],[5,2,5,5],[30,7,30,9],[30,11,30,13],[31,6,31,9],[31,10,31,13],[32,6,32,9],[32,10,32,13],[28,6,28,9],[28,10,28,13],[28,18,28,21],[28,22,28,25],[29,6,29,9],[29,10,29,13],[29,18,29,21],[29,22,29,25],[26,7,26,9],[26,11,26,13],[26,19,26,21],[26,23,26,25],[27,6,27,9],[27,10,27,13],[27,18,27,21],[27,22,27,25],[25,38,25,41],[25,42,25,45],[25,46,25,49],[25,50,25,53],[25,54,25,57],[25,58,25,61],[24,42,24,45],[24,46,24,49],[24,50,24,53],[24,54,24,57],[24,58,24,61],[25,6,25,9],[25,10,25,13],[25,18,25,21],[25,22,25,25],[25,30,25,33],[24,6,24,9],[24,10,24,13],[24,18,24,21],[24,22,24,25],[24,30,24,33],[24,38,24,41],[23,38,23,41],[23,42,23,45],[23,46,23,49],[23,50,23,53],[23,54,23,57],[23,58,23,61],[22,43,22,45],[22,47,22,49],[22,51,22,53],[22,55,22,57],[22,59,22,61],[23,6,23,9],[23,10,23,13],[23,18,23,21],[23,22,23,25],[23,30,23,33],[22,7,22,9],[22,11,22,13],[22,19,22,21],[22,23,22,25],[22,31,22,33],[22,39,22,41],[21,42,21,45],[21,46,21,49],[21,50,21,53],[21,54,21,57],[21,58,21,61],[21,62,21,65],[20,62,20,65],[21,6,21,9],[21,10,21,13],[21,14,21,17],[21,18,21,21],[21,22,21,25],[21,26,21,29],[21,30,21,33],[21,34,21,37],[21,38,21,41],[20,38,20,41],[20,42,20,45],[20,46,20,49],[20,50,20,53],[20,54,20,57],[20,58,20,61],[19,58,19,61],[19,62,19,65],[20,6,20,9],[20,10,20,13],[20,14,20,17],[20,18,20,21],[20,22,20,25],[20,26,20,29],[20,30,20,33],[20,34,20,37],[19,34,19,37],[19,38,19,41],[19,42,19,45],[19,46,19,49],[19,50,19,53],[19,54,19,57],[18,55,18,57],[18,59,18,61],[18,63,18,65],[19,6,19,9],[19,10,19,13],[19,14,19,17],[19,18,19,21],[19,22,19,25],[19,26,19,29],[19,30,19,33],[18,31,18,33],[18,35,18,37],[18,39,18,41],[18,43,18,45],[18,47,18,49],[18,51,18,53],[17,54,17,57],[17,58,17,61],[17,62,17,65],[17,66,17,69],[18,7,18,9],[18,11,18,13],[18,15,18,17],[18,19,18,21],[18,23,18,25],[18,27,18,29],[16,54,16,57],[16,58,16,61],[16,62,16,65],[16,66,16,69],[17,18,17,21],[17,22,17,25],[17,30,17,33],[17,34,17,37],[17,38,17,41],[17,42,17,45],[15,54,15,57],[15,58,15,61],[15,62,15,65],[15,66,15,69],[16,18,16,21],[16,22,16,25],[16,30,16,33],[16,34,16,37],[16,38,16,41],[16,42,16,45],[14,55,14,57],[14,59,14,61],[14,63,14,65],[14,67,14,69],[15,18,15,21],[15,22,15,25],[15,30,15,33],[15,34,15,37],[15,38,15,41],[15,42,15,45],[13,54,13,57],[13,58,13,61],[13,62,13,65],[13,66,13,69],[14,19,14,21],[14,23,14,25],[14,31,14,33],[14,35,14,37],[14,39,14,41],[14,43,14,45],[11,54,11,57],[11,58,11,61],[11,62,11,65],[11,66,11,69],[12,54,12,57],[12,58,12,61],[12,62,12,65],[12,66,12,69],[6,67,6,69],[7,66,7,69],[8,66,8,69],[9,66,9,69],[10,55,10,57],[10,59,10,61],[10,63,10,65],[10,67,10,69]]}
[]
[]
[null,null,null,"名前",null,null,"あ",null,null,null,"い",null,null,null,"う",null,null,null,"え",null,null,null,"お",null,null,null,"か",null,null,null,"き",null,null,null,"く",null,null,null,"け",null,null,null,"こ",null,null,null,"さ",null,null,null,"し",null,null,null,"す",null,null,null,"せ",null,null,null,"そ",null,null,null,"た",null,null,null,"ち"]
[null,null,"人口密度（人/km2）"]
[null,null,"人口（人）"]
[null,null,"面積（km2）"]
[null,null,"A",null,null,null,null,null,null,null,null,null,null,null,null,null,null,null,null,null,null,null,null,null,null,null,null,null,null,null,null,null,null,null,null,null,null,null,null,null,null,null,null,null,null,null,null,null,null,null,null,null,null,null,null,null,null,null,null,null,null,null,null,null,null,null,1,{"$f":"VLOOKUP(BO7,市町村データ!A2:AX48,MATCH(手順書_人口!$H$52, 市町村データ!A1:AX1, 0),FALSE)","v":"北海道"},null,null,null,null,null,"以上",null,null,"背景色"]
[null,null,null,null,null,null,null,null,null,null,null,null,null,null,null,null,null,null,null,null,null,null,null,null,null,null,null,null,null,null,null,null,null,null,null,null,null,null,null,null,null,null,null,null,null,null,null,null,null,null,null,null,null,null,null,null,null,null,null,null,null,null,null,null,null,null,{"$f":"VLOOKUP(BO7,市町村データ!A2:AX48,MATCH(手順書_人口!$G$53, 市町村データ!A1:AX1, 0),FALSE)","v":66.599999999999994},null,null,null,null,null,null,10000000]
[null,null,null,null,null,null,null,null,null,null,null,null,null,null,null,null,null,null,null,null,null,null,null,null,null,null,null,null,null,null,null,null,null,null,null,null,null,null,null,null,null,null,null,null,null,null,null,null,null,null,null,null,null,null,null,null,null,null,null,null,null,null,null,null,null,null,{"$f":"VLOOKUP(BO7,市町村データ!A2:AX48,MATCH(手順書_人口!$G$54, 市町村データ!A1:AX1, 0),FALSE)","v":5224614},null,null,null,null,null,null,7500000]
[null,null,null,null,null,null,null,null,null,null,null,null,null,null,null,null,null,null,null,null,null,null,null,null,null,null,null,null,null,null,null,null,null,null,null,null,null,null,null,null,null,null,null,null,null,null,null,null,null,null,null,null,null,null,null,null,null,null,null,null,null,null,null,null,null,null,{"$f":"VLOOKUP(BO7,市町村データ!A2:AX48,MATCH(手順書_人口!$G$55, 市町村データ!A1:AX1, 0),FALSE)","v":83424.44},null,null,null,null,null,null,5000000]
[null,null,"B",null,null,null,null,null,null,null,null,null,null,null,null,null,null,null,null,null,null,null,null,null,null,null,null,null,null,null,null,null,null,null,null,null,null,null,null,null,null,null,null,null,null,null,null,null,null,null,null,null,null,null,11,{"$f":"VLOOKUP(BC11,市町村データ!A2:AX48,MATCH(手順書_人口!$H$52, 市町村データ!A1:AX1, 0),FALSE)","v":"新潟"},null,null,7,{"$f":"VLOOKUP(BG11,市町村データ!A2:AX48,MATCH(手順書_人口!$H$52, 市町村データ!A1:AX1, 0),FALSE)","v":"山形"},null,null,4,{"$f":"VLOOKUP(BK11,市町村データ!A2:AX48,MATCH(手順書_人口!$H$52, 市町村データ!A1:AX1, 0),FALSE)","v":"秋田"},null,null,2,{"$f":"VLOOKUP(BO11,市町村データ!A2:AX48,MATCH(手順書_人口!$H$52, 市町村データ!A1:AX1, 0),FALSE)","v":"青森"},null,null,null,null,null,2500000]
[null,null,null,null,null,null,null,null,null,null,null,null,null,null,null,null,null,null,null,null,null,null,null,null,null,null,null,null,null,null,null,null,null,null,null,null,null,null,null,null,null,null,null,null,null,null,null,null,null,null,null,null,null,null,{"$f":"VLOOKUP(BC11,市町村データ!A2:AX48,MATCH(手順書_人口!$G$53, 市町村データ!A1:AX1, 0),FALSE)","v":174.9},null,null,null,{"$f":"VLOOKUP(BG11,市町村データ!A2:AX48,MATCH(手順書_人口!$G$53, 市町村データ!A1:AX1, 0),FALSE)","v":114.6},null,null,null,{"$f":"VLOOKUP(BK11,市町村データ!A2:AX48,MATCH(手順書_人口!$G$53, 市町村データ!A1:AX1, 0),FALSE)","v":82.4},null,null,null,{"$f":"VLOOKUP(BO11,市町村データ!A2:AX48,MATCH(手順書_人口!$G$53, 市町村データ!A1:AX1, 0),FALSE)","v":128.30000000000001},null,null,null,null,null,null,1250000]
[null,null,null,null,null,null,null,null,null,null,null,null,null,null,null,null,null,null,null,null,null,null,null,null,null,null,null,null,null,null,null,null,null,null,null,null,null,null,null,null,null,null,null,null,null,null,null,null,null,null,null,null,null,null,{"$f":"VLOOKUP(BC11,市町村データ!A2:AX48,MATCH(手順書_人口!$G$54, 市町村データ!A1:AX1, 0),FALSE)","v":2201272},null,null,null,{"$f":"VLOOKUP(BG11,市町村データ!A2:AX48,MATCH(手順書_人口!$G$54, 市町村データ!A1:AX1, 0),FALSE)","v":1068027},null,null,null,{"$f":"VLOOKUP(BK11,市町村データ!A2:AX48,MATCH(手順書_人口!$G$54, 市町村データ!A1:AX1, 0),FALSE)","v":959502},null,null,null,{"$f":"VLOOKUP(BO11,市町村データ!A2:AX48,MATCH(手順書_人口!$G$54, 市町村データ!A1:AX1, 0),FALSE)","v":1237984},null,null,null,null,null,null,1000000]
[null,null,null,null,null,null,null,null,null,null,null,null,null,null,null,null,null,null,null,null,null,null,null,null,null,null,null,null,null,null,null,null,null,null,null,null,null,null,null,null,null,null,null,null,null,null,null,null,null,null,null,null,null,null,{"$f":"VLOOKUP(BC11,市町村データ!A2:AX48,MATCH(手順書_人口!$G$55, 市町村データ!A1:AX1, 0),FALSE)","v":12583.96},null,null,null,{"$f":"VLOOKUP(BG11,市町村データ!A2:AX48,MATCH(手順書_人口!$G$55, 市町村データ!A1:AX1, 0),FALSE)","v":9323.15},null,null,null,{"$f":"VLOOKUP(BK11,市町村データ!A2:AX48,MATCH(手順書_人口!$G$55, 市町村データ!A1:AX1, 0),FALSE)","v":11637.52},null,null,null,{"$f":"VLOOKUP(BO11,市町村データ!A2:AX48,MATCH(手順書_人口!$G$55, 市町村データ!A1:AX1, 0),FALSE)","v":9645.64},null,null,null,null,null,null,750000]
[null,null,"C",null,null,null,null,null,null,null,null,null,null,null,null,null,null,null,35,{"$f":"VLOOKUP(S15,市町村データ!A2:AX48,MATCH(手順書_人口!$H$52, 市町村データ!A1:AX1, 0),FALSE)","v":"島根"},null,null,31,{"$f":"VLOOKUP(W15,市町村データ!A2:AX48,MATCH(手順書_人口!$H$52, 市町村データ!A1:AX1, 0),FALSE)","v":"鳥取"},null,null,null,null,null,null,27,{"$f":"VLOOKUP(AE15,市町村データ!A2:AX48,MATCH(手順書_人口!$H$52, 市町村データ!A1:AX1, 0),FALSE)","v":"京都"},null,null,25,{"$f":"VLOOKUP(AI15,市町村データ!A2:AX48,MATCH(手順書_人口!$H$52, 市町村データ!A1:AX1, 0),FALSE)","v":"福井"},null,null,22,{"$f":"VLOOKUP(AM15,市町村データ!A2:AX48,MATCH(手順書_人口!$H$52, 市町村データ!A1:AX1, 0),FALSE)","v":"石川"},null,null,19,{"$f":"VLOOKUP(AQ15,市町村データ!A2:AX48,MATCH(手順書_人口!$H$52, 市町村データ!A1:AX1, 0),FALSE)","v":"富山"},null,null,null,null,null,null,null,null,null,null,12,{"$f":"VLOOKUP(BC15,市町村データ!A2:AX48,MATCH(手順書_人口!$H$52, 市町村データ!A1:AX1, 0),FALSE)","v":"群馬"},null,null,8,{"$f":"VLOOKUP(BG15,市町村データ!A2:AX48,MATCH(手順書_人口!$H$52, 市町村データ!A1:AX1, 0),FALSE)","v":"福島"},null,null,5,{"$f":"VLOOKUP(BK15,市町村データ!A2:AX48,MATCH(手順書_人口!$H$52, 市町村データ!A1:AX1, 0),FALSE)","v":"宮城"},null,null,3,{"$f":"VLOOKUP(BO15,市町村データ!A2:AX48,MATCH(手順書_人口!$H$52, 市町村データ!A1:AX1, 0),FALSE)","v":"岩手"},null,null,null,null,null,500000]
[null,null,null,null,null,null,null,null,null,null,null,null,null,null,null,null,null,null,{"$f":"VLOOKUP(S15,市町村データ!A2:AX48,MATCH(手順書_人口!$G$53, 市町村データ!A1:AX1, 0),FALSE)","v":100.1},null,null,null,{"$f":"VLOOKUP(W15,市町村データ!A2:AX48,MATCH(手順書_人口!$G$53, 市町村データ!A1:AX1, 0),FALSE)","v":157.80000000000001},null,null,null,null,null,null,null,{"$f":"VLOOKUP(AE15,市町村データ!A2:AX48,MATCH(手順書_人口!$G$53, 市町村データ!A1:AX1, 0),FALSE)","v":559},null,null,null,{"$f":"VLOOKUP(AI15,市町村データ!A2:AX48,MATCH(手順書_人口!$G$53, 市町村データ!A1:AX1, 0),FALSE)","v":183},null,null,null,{"$f":"VLOOKUP(AM15,市町村データ!A2:AX48,MATCH(手順書_人口!$G$53, 市町村データ!A1:AX1, 0),FALSE)","v":270.5},null,null,null,{"$f":"VLOOKUP(AQ15,市町村データ!A2:AX48,MATCH(手順書_人口!$G$53, 市町村データ!A1:AX1, 0),FALSE)","v":243.6},null,null,null,null,null,null,null,null,null,null,null,{"$f":"VLOOKUP(BC15,市町村データ!A2:AX48,MATCH(手順書_人口!$G$53, 市町村データ!A1:AX1, 0),FALSE)","v":304.8},null,null,null,{"$f":"VLOOKUP(BG15,市町村データ!A2:AX48,MATCH(手順書_人口!$G$53, 市町村データ!A1:AX1, 0),FALSE)","v":133},null,null,null,{"$f":"VLOOKUP(BK15,市町村データ!A2:AX48,MATCH(手順書_人口!$G$53, 市町村データ!A1:AX1, 0),FALSE)","v":316.10000000000002},null,null,null,{"$f":"VLOOKUP(BO15,市町村データ!A2:AX48,MATCH(手順書_人口!$G$53, 市町村データ!A1:AX1, 0),FALSE)","v":79.2},null,null,null,null,null,null,250000]
[null,null,null,null,null,null,null,null,null,null,null,null,null,null,null,null,null,null,{"$f":"VLOOKUP(S15,市町村データ!A2:AX48,MATCH(手順書_人口!$G$54, 市町村データ!A1:AX1, 0),FALSE)","v":671126},null,null,null,{"$f":"VLOOKUP(W15,市町村データ!A2:AX48,MATCH(手順書_人口!$G$54, 市町村データ!A1:AX1, 0),FALSE)","v":553407},null,null,null,null,null,null,null,{"$f":"VLOOKUP(AE15,市町村データ!A2:AX48,MATCH(手順書_人口!$G$54, 市町村データ!A1:AX1, 0),FALSE)","v":2578087},null,null,null,{"$f":"VLOOKUP(AI15,市町村データ!A2:AX48,MATCH(手順書_人口!$G$54, 市町村データ!A1:AX1, 0),FALSE)","v":766863},null,null,null,{"$f":"VLOOKUP(AM15,市町村データ!A2:AX48,MATCH(手順書_人口!$G$54, 市町村データ!A1:AX1, 0),FALSE)","v":1132526},null,null,null,{"$f":"VLOOKUP(AQ15,市町村データ!A2:AX48,MATCH(手順書_人口!$G$54, 市町村データ!A1:AX1, 0),FALSE)","v":1034814},null,null,null,null,null,null,null,null,null,null,null,{"$f":"VLOOKUP(BC15,市町村データ!A2:AX48,MATCH(手順書_人口!$G$54, 市町村データ!A1:AX1, 0),FALSE)","v":1939110},null,null,null,{"$f":"VLOOKUP(BG15,市町村データ!A2:AX48,MATCH(手順書_人口!$G$54, 市町村データ!A1:AX1, 0),FALSE)","v":1833152},null,null,null,{"$f":"VLOOKUP(BK15,市町村データ!A2:AX48,MATCH(手順書_人口!$G$54, 市町村データ!A1:AX1, 0),FALSE)","v":2301996},null,null,null,{"$f":"VLOOKUP(BO15,市町村データ!A2:AX48,MATCH(手順書_人口!$G$54, 市町村データ!A1:AX1, 0),FALSE)","v":1210534},null,null,null,null,null,null,125000]
[null,null,null,null,null,null,null,null,null,null,null,null,null,null,null,null,null,null,{"$f":"VLOOKUP(S15,市町村データ!A2:AX48,MATCH(手順書_人口!$G$55, 市町村データ!A1:AX1, 0),FALSE)","v":6707.89},null,null,null,{"$f":"VLOOKUP(W15,市町村データ!A2:AX48,MATCH(手順書_人口!$G$55, 市町村データ!A1:AX1, 0),FALSE)","v":3507.14},null,null,null,null,null,null,null,{"$f":"VLOOKUP(AE15,市町村データ!A2:AX48,MATCH(手順書_人口!$G$55, 市町村データ!A1:AX1, 0),FALSE)","v":4612.2},null,null,null,{"$f":"VLOOKUP(AI15,市町村データ!A2:AX48,MATCH(手順書_人口!$G$55, 市町村データ!A1:AX1, 0),FALSE)","v":4190.5200000000004},null,null,null,{"$f":"VLOOKUP(AM15,市町村データ!A2:AX48,MATCH(手順書_人口!$G$55, 市町村データ!A1:AX1, 0),FALSE)","v":4186.21},null,null,null,{"$f":"VLOOKUP(AQ15,市町村データ!A2:AX48,MATCH(手順書_人口!$G$55, 市町村データ!A1:AX1, 0),FALSE)","v":4247.58},null,null,null,null,null,null,null,null,null,null,null,{"$f":"VLOOKUP(BC15,市町村データ!A2:AX48,MATCH(手順書_人口!$G$55, 市町村データ!A1:AX1, 0),FALSE)","v":6362.28},null,null,null,{"$f":"VLOOKUP(BG15,市町村データ!A2:AX48,MATCH(手順書_人口!$G$55, 市町村データ!A1:AX1, 0),FALSE)","v":13784.14},null,null,null,{"$f":"VLOOKUP(BK15,市町村データ!A2:AX48,MATCH(手順書_人口!$G$55, 市町村データ!A1:AX1, 0),FALSE)","v":7282.29},null,null,null,{"$f":"VLOOKUP(BO15,市町村データ!A2:AX48,MATCH(手順書_人口!$G$55, 市町村データ!A1:AX1, 0),FALSE)","v":15275.01},null,null,null,null,null,null,0]
[null,null,"D",null,null,null,44,{"$f":"VLOOKUP(G19,市町村データ!A2:AX48,MATCH(手順書_人口!$H$52, 市町村データ!A1:AX1, 0),FALSE)","v":"佐賀"},null,null,40,{"$f":"VLOOKUP(K19,市町村データ!A2:AX48,MATCH(手順書_人口!$H$52, 市町村データ!A1:AX1, 0),FALSE)","v":"福岡"},null,null,39,{"$f":"VLOOKUP(O19,市町村データ!A2:AX48,MATCH(手順書_人口!$H$52, 市町村データ!A1:AX1, 0),FALSE)","v":"山口"},null,null,36,{"$f":"VLOOKUP(S19,市町村データ!A2:AX48,MATCH(手順書_人口!$H$52, 市町村データ!A1:AX1, 0),FALSE)","v":"広島"},null,null,32,{"$f":"VLOOKUP(W19,市町村データ!A2:AX48,MATCH(手順書_人口!$H$52, 市町村データ!A1:AX1, 0),FALSE)","v":"岡山"},null,null,30,{"$f":"VLOOKUP(AA19,市町村データ!A2:AX48,MATCH(手順書_人口!$H$52, 市町村データ!A1:AX1, 0),FALSE)","v":"兵庫"},null,null,28,{"$f":"VLOOKUP(AE19,市町村データ!A2:AX48,MATCH(手順書_人口!$H$52, 市町村データ!A1:AX1, 0),FALSE)","v":"大阪"},null,null,26,{"$f":"VLOOKUP(AI19,市町村データ!A2:AX48,MATCH(手順書_人口!$H$52, 市町村データ!A1:AX1, 0),FALSE)","v":"奈良"},null,null,23,{"$f":"VLOOKUP(AM19,市町村データ!A2:AX48,MATCH(手順書_人口!$H$52, 市町村データ!A1:AX1, 0),FALSE)","v":"滋賀"},null,null,20,{"$f":"VLOOKUP(AQ19,市町村データ!A2:AX48,MATCH(手順書_人口!$H$52, 市町村データ!A1:AX1, 0),FALSE)","v":"岐阜"},null,null,17,{"$f":"VLOOKUP(AU19,市町村データ!A2:AX48,MATCH(手順書_人口!$H$52, 市町村データ!A1:AX1, 0),FALSE)","v":"長野"},null,null,15,{"$f":"VLOOKUP(AY19,市町村データ!A2:AX48,MATCH(手順書_人口!$H$52, 市町村データ!A1:AX1, 0),FALSE)","v":"山梨"},null,null,13,{"$f":"VLOOKUP(BC19,市町村データ!A2:AX48,MATCH(手順書_人口!$H$52, 市町村データ!A1:AX1, 0),FALSE)","v":"埼玉"},null,null,9,{"$f":"VLOOKUP(BG19,市町村データ!A2:AX48,MATCH(手順書_人口!$H$52, 市町村データ!A1:AX1, 0),FALSE)","v":"栃木"},null,null,6,{"$f":"VLOOKUP(BK19,市町村データ!A2:AX48,MATCH(手順書_人口!$H$52, 市町村データ!A1:AX1, 0),FALSE)","v":"茨城"}]
[null,null,null,null,null,null,{"$f":"VLOOKUP(G19,市町村データ!A2:AX48,MATCH(手順書_人口!$G$53, 市町村データ!A1:AX1, 0),FALSE)","v":332.5},null,null,null,{"$f":"VLOOKUP(K19,市町村データ!A2:AX48,MATCH(手順書_人口!$G$53, 市町村データ!A1:AX1, 0),FALSE)","v":1029.8},null,null,null,{"$f":"VLOOKUP(O19,市町村データ!A2:AX48,MATCH(手順書_人口!$G$53, 市町村データ!A1:AX1, 0),FALSE)","v":219.6},null,null,null,{"$f":"VLOOKUP(S19,市町村データ!A2:AX48,MATCH(手順書_人口!$G$53, 市町村データ!A1:AX1, 0),FALSE)","v":330.2},null,null,null,{"$f":"VLOOKUP(W19,市町村データ!A2:AX48,MATCH(手順書_人口!$G$53, 市町村データ!A1:AX1, 0),FALSE)","v":265.39999999999998},null,null,null,{"$f":"VLOOKUP(AA19,市町村データ!A2:AX48,MATCH(手順書_人口!$G$53, 市町村データ!A1:AX1, 0),FALSE)","v":650.5},null,null,null,{"$f":"VLOOKUP(AE19,市町村データ!A2:AX48,MATCH(手順書_人口!$G$53, 市町村データ!A1:AX1, 0),FALSE)","v":4638.3999999999996},null,null,null,{"$f":"VLOOKUP(AI19,市町村データ!A2:AX48,MATCH(手順書_人口!$G$53, 市町村データ!A1:AX1, 0),FALSE)","v":358.8},null,null,null,{"$f":"VLOOKUP(AM19,市町村データ!A2:AX48,MATCH(手順書_人口!$G$53, 市町村データ!A1:AX1, 0),FALSE)","v":351.9},null,null,null,{"$f":"VLOOKUP(AQ19,市町村データ!A2:AX48,MATCH(手順書_人口!$G$53, 市町村データ!A1:AX1, 0),FALSE)","v":186.3},null,null,null,{"$f":"VLOOKUP(AU19,市町村データ!A2:AX48,MATCH(手順書_人口!$G$53, 市町村データ!A1:AX1, 0),FALSE)","v":151},null,null,null,{"$f":"VLOOKUP(AY19,市町村データ!A2:AX48,MATCH(手順書_人口!$G$53, 市町村データ!A1:AX1, 0),FALSE)","v":181.4},null,null,null,{"$f":"VLOOKUP(BC19,市町村データ!A2:AX48,MATCH(手順書_人口!$G$53, 市町村データ!A1:AX1, 0),FALSE)","v":1934},null,null,null,{"$f":"VLOOKUP(BG19,市町村データ!A2:AX48,MATCH(手順書_人口!$G$53, 市町村データ!A1:AX1, 0),FALSE)","v":301.7},null,null,null,{"$f":"VLOOKUP(BK19,市町村データ!A2:AX48,MATCH(手順書_人口!$G$53, 市町村データ!A1:AX1, 0),FALSE)","v":470.2}]
[null,null,null,null,null,null,{"$f":"VLOOKUP(G19,市町村データ!A2:AX48,MATCH(手順書_人口!$G$54, 市町村データ!A1:AX1, 0),FALSE)","v":811442},null,null,null,{"$f":"VLOOKUP(K19,市町村データ!A2:AX48,MATCH(手順書_人口!$G$54, 市町村データ!A1:AX1, 0),FALSE)","v":5135214},null,null,null,{"$f":"VLOOKUP(O19,市町村データ!A2:AX48,MATCH(手順書_人口!$G$54, 市町村データ!A1:AX1, 0),FALSE)","v":1342059},null,null,null,{"$f":"VLOOKUP(S19,市町村データ!A2:AX48,MATCH(手順書_人口!$G$54, 市町村データ!A1:AX1, 0),FALSE)","v":2799702},null,null,null,{"$f":"VLOOKUP(W19,市町村データ!A2:AX48,MATCH(手順書_人口!$G$54, 市町村データ!A1:AX1, 0),FALSE)","v":1888432},null,null,null,{"$f":"VLOOKUP(AA19,市町村データ!A2:AX48,MATCH(手順書_人口!$G$54, 市町村データ!A1:AX1, 0),FALSE)","v":5465002},null,null,null,{"$f":"VLOOKUP(AE19,市町村データ!A2:AX48,MATCH(手順書_人口!$G$54, 市町村データ!A1:AX1, 0),FALSE)","v":8837685},null,null,null,{"$f":"VLOOKUP(AI19,市町村データ!A2:AX48,MATCH(手順書_人口!$G$54, 市町村データ!A1:AX1, 0),FALSE)","v":1324473},null,null,null,{"$f":"VLOOKUP(AM19,市町村データ!A2:AX48,MATCH(手順書_人口!$G$54, 市町村データ!A1:AX1, 0),FALSE)","v":1413610},null,null,null,{"$f":"VLOOKUP(AQ19,市町村データ!A2:AX48,MATCH(手順書_人口!$G$54, 市町村データ!A1:AX1, 0),FALSE)","v":1978742},null,null,null,{"$f":"VLOOKUP(AU19,市町村データ!A2:AX48,MATCH(手順書_人口!$G$54, 市町村データ!A1:AX1, 0),FALSE)","v":2048011},null,null,null,{"$f":"VLOOKUP(AY19,市町村データ!A2:AX48,MATCH(手順書_人口!$G$54, 市町村データ!A1:AX1, 0),FALSE)","v":809974},null,null,null,{"$f":"VLOOKUP(BC19,市町村データ!A2:AX48,MATCH(手順書_人口!$G$54, 市町村データ!A1:AX1, 0),FALSE)","v":7344765},null,null,null,{"$f":"VLOOKUP(BG19,市町村データ!A2:AX48,MATCH(手順書_人口!$G$54, 市町村データ!A1:AX1, 0),FALSE)","v":1933146},null,null,null,{"$f":"VLOOKUP(BK19,市町村データ!A2:AX48,MATCH(手順書_人口!$G$54, 市町村データ!A1:AX1, 0),FALSE)","v":2867009}]
[null,null,null,null,null,null,{"$f":"VLOOKUP(G19,市町村データ!A2:AX48,MATCH(手順書_人口!$G$55, 市町村データ!A1:AX1, 0),FALSE)","v":2440.69},null,null,null,{"$f":"VLOOKUP(K19,市町村データ!A2:AX48,MATCH(手順書_人口!$G$55, 市町村データ!A1:AX1, 0),FALSE)","v":4986.51},null,null,null,{"$f":"VLOOKUP(O19,市町村データ!A2:AX48,MATCH(手順書_人口!$G$55, 市町村データ!A1:AX1, 0),FALSE)","v":6112.54},null,null,null,{"$f":"VLOOKUP(S19,市町村データ!A2:AX48,MATCH(手順書_人口!$G$55, 市町村データ!A1:AX1, 0),FALSE)","v":8479.65},null,null,null,{"$f":"VLOOKUP(W19,市町村データ!A2:AX48,MATCH(手順書_人口!$G$55, 市町村データ!A1:AX1, 0),FALSE)","v":7114.33},null,null,null,{"$f":"VLOOKUP(AA19,市町村データ!A2:AX48,MATCH(手順書_人口!$G$55, 市町村データ!A1:AX1, 0),FALSE)","v":8401.02},null,null,null,{"$f":"VLOOKUP(AE19,市町村データ!A2:AX48,MATCH(手順書_人口!$G$55, 市町村データ!A1:AX1, 0),FALSE)","v":1905.32},null,null,null,{"$f":"VLOOKUP(AI19,市町村データ!A2:AX48,MATCH(手順書_人口!$G$55, 市町村データ!A1:AX1, 0),FALSE)","v":3690.94},null,null,null,{"$f":"VLOOKUP(AM19,市町村データ!A2:AX48,MATCH(手順書_人口!$G$55, 市町村データ!A1:AX1, 0),FALSE)","v":4017.38},null,null,null,{"$f":"VLOOKUP(AQ19,市町村データ!A2:AX48,MATCH(手順書_人口!$G$55, 市町村データ!A1:AX1, 0),FALSE)","v":10621.29},null,null,null,{"$f":"VLOOKUP(AU19,市町村データ!A2:AX48,MATCH(手順書_人口!$G$55, 市町村データ!A1:AX1, 0),FALSE)","v":13561.56},null,null,null,{"$f":"VLOOKUP(AY19,市町村データ!A2:AX48,MATCH(手順書_人口!$G$55, 市町村データ!A1:AX1, 0),FALSE)","v":4465.2700000000004},null,null,null,{"$f":"VLOOKUP(BC19,市町村データ!A2:AX48,MATCH(手順書_人口!$G$55, 市町村データ!A1:AX1, 0),FALSE)","v":3797.75},null,null,null,{"$f":"VLOOKUP(BG19,市町村データ!A2:AX48,MATCH(手順書_人口!$G$55, 市町村データ!A1:AX1, 0),FALSE)","v":6408.09},null,null,null,{"$f":"VLOOKUP(BK19,市町村データ!A2:AX48,MATCH(手順書_人口!$G$55, 市町村データ!A1:AX1, 0),FALSE)","v":6097.39}]
[null,null,"E",null,null,null,45,{"$f":"VLOOKUP(G23,市町村データ!A2:AX48,MATCH(手順書_人口!$H$52, 市町村データ!A1:AX1, 0),FALSE)","v":"長崎"},null,null,41,{"$f":"VLOOKUP(K23,市町村データ!A2:AX48,MATCH(手順書_人口!$H$52, 市町村データ!A1:AX1, 0),FALSE)","v":"大分"},null,null,null,null,null,null,37,{"$f":"VLOOKUP(S23,市町村データ!A2:AX48,MATCH(手順書_人口!$H$52, 市町村データ!A1:AX1, 0),FALSE)","v":"愛媛"},null,null,33,{"$f":"VLOOKUP(W23,市町村データ!A2:AX48,MATCH(手順書_人口!$H$52, 市町村データ!A1:AX1, 0),FALSE)","v":"香川"},null,null,null,null,null,null,29,{"$f":"VLOOKUP(AE23,市町村データ!A2:AX48,MATCH(手順書_人口!$H$52, 市町村データ!A1:AX1, 0),FALSE)","v":"和歌山"},null,null,null,null,null,null,24,{"$f":"VLOOKUP(AM23,市町村データ!A2:AX48,MATCH(手順書_人口!$H$52, 市町村データ!A1:AX1, 0),FALSE)","v":"三重"},null,null,21,{"$f":"VLOOKUP(AQ23,市町村データ!A2:AX48,MATCH(手順書_人口!$H$52, 市町村データ!A1:AX1, 0),FALSE)","v":"愛知"},null,null,18,{"$f":"VLOOKUP(AU23,市町村データ!A2:AX48,MATCH(手順書_人口!$H$52, 市町村データ!A1:AX1, 0),FALSE)","v":"静岡"},null,null,16,{"$f":"VLOOKUP(AY23,市町村データ!A2:AX48,MATCH(手順書_人口!$H$52, 市町村データ!A1:AX1, 0),FALSE)","v":"神奈川"},null,null,14,{"$f":"VLOOKUP(BC23,市町村データ!A2:AX48,MATCH(手順書_人口!$H$52, 市町村データ!A1:AX1, 0),FALSE)","v":"東京"},null,null,10,{"$f":"VLOOKUP(BG23,市町村データ!A2:AX48,MATCH(手順書_人口!$H$52, 市町村データ!A1:AX1, 0),FALSE)","v":"千葉"}]
[null,null,null,null,null,null,{"$f":"VLOOKUP(G23,市町村データ!A2:AX48,MATCH(手順書_人口!$G$53, 市町村データ!A1:AX1, 0),FALSE)","v":317.7},null,null,null,{"$f":"VLOOKUP(K23,市町村データ!A2:AX48,MATCH(手順書_人口!$G$53, 市町村データ!A1:AX1, 0),FALSE)","v":177.2},null,null,null,null,null,null,null,{"$f":"VLOOKUP(S23,市町村データ!A2:AX48,MATCH(手順書_人口!$G$53, 市町村データ!A1:AX1, 0),FALSE)","v":235.2},null,null,null,{"$f":"VLOOKUP(W23,市町村データ!A2:AX48,MATCH(手順書_人口!$G$53, 市町村データ!A1:AX1, 0),FALSE)","v":506.3},null,null,null,null,null,null,null,{"$f":"VLOOKUP(AE23,市町村データ!A2:AX48,MATCH(手順書_人口!$G$53, 市町村データ!A1:AX1, 0),FALSE)","v":195.3},null,null,null,null,null,null,null,{"$f":"VLOOKUP(AM23,市町村データ!A2:AX48,MATCH(手順書_人口!$G$53, 市町村データ!A1:AX1, 0),FALSE)","v":306.60000000000002},null,null,null,{"$f":"VLOOKUP(AQ23,市町村データ!A2:AX48,MATCH(手順書_人口!$G$53, 市町村データ!A1:AX1, 0),FALSE)","v":1458},null,null,null,{"$f":"VLOOKUP(AU23,市町村データ!A2:AX48,MATCH(手順書_人口!$G$53, 市町村データ!A1:AX1, 0),FALSE)","v":467.2},null,null,null,{"$f":"VLOOKUP(AY23,市町村データ!A2:AX48,MATCH(手順書_人口!$G$53, 市町村データ!A1:AX1, 0),FALSE)","v":3823.2},null,null,null,{"$f":"VLOOKUP(BC23,市町村データ!A2:AX48,MATCH(手順書_人口!$G$53, 市町村データ!A1:AX1, 0),FALSE)","v":6402.6},null,null,null,{"$f":"VLOOKUP(BG23,市町村データ!A2:AX48,MATCH(手順書_人口!$G$53, 市町村データ!A1:AX1, 0),FALSE)","v":1218.5}]
[null,null,null,null,null,null,{"$f":"VLOOKUP(G23,市町村データ!A2:AX48,MATCH(手順書_人口!$G$54, 市町村データ!A1:AX1, 0),FALSE)","v":1312317},null,null,null,{"$f":"VLOOKUP(K23,市町村データ!A2:AX48,MATCH(手順書_人口!$G$54, 市町村データ!A1:AX1, 0),FALSE)","v":1123852},null,null,null,null,null,null,null,{"$f":"VLOOKUP(S23,市町村データ!A2:AX48,MATCH(手順書_人口!$G$54, 市町村データ!A1:AX1, 0),FALSE)","v":1334841},null,null,null,{"$f":"VLOOKUP(W23,市町村データ!A2:AX48,MATCH(手順書_人口!$G$54, 市町村データ!A1:AX1, 0),FALSE)","v":950244},null,null,null,null,null,null,null,{"$f":"VLOOKUP(AE23,市町村データ!A2:AX48,MATCH(手順書_人口!$G$54, 市町村データ!A1:AX1, 0),FALSE)","v":922584},null,null,null,null,null,null,null,{"$f":"VLOOKUP(AM23,市町村データ!A2:AX48,MATCH(手順書_人口!$G$54, 市町村データ!A1:AX1, 0),FALSE)","v":1770254},null,null,null,{"$f":"VLOOKUP(AQ23,市町村データ!A2:AX48,MATCH(手順書_人口!$G$54, 市町村データ!A1:AX1, 0),FALSE)","v":7542415},null,null,null,{"$f":"VLOOKUP(AU23,市町村データ!A2:AX48,MATCH(手順書_人口!$G$54, 市町村データ!A1:AX1, 0),FALSE)","v":3633202},null,null,null,{"$f":"VLOOKUP(AY23,市町村データ!A2:AX48,MATCH(手順書_人口!$G$54, 市町村データ!A1:AX1, 0),FALSE)","v":9237337},null,null,null,{"$f":"VLOOKUP(BC23,市町村データ!A2:AX48,MATCH(手順書_人口!$G$54, 市町村データ!A1:AX1, 0),FALSE)","v":14047594},null,null,null,{"$f":"VLOOKUP(BG23,市町村データ!A2:AX48,MATCH(手順書_人口!$G$54, 市町村データ!A1:AX1, 0),FALSE)","v":6284480}]
[null,null,null,null,null,null,{"$f":"VLOOKUP(G23,市町村データ!A2:AX48,MATCH(手順書_人口!$G$55, 市町村データ!A1:AX1, 0),FALSE)","v":4130.9799999999996},null,null,null,{"$f":"VLOOKUP(K23,市町村データ!A2:AX48,MATCH(手順書_人口!$G$55, 市町村データ!A1:AX1, 0),FALSE)","v":6340.76},null,null,null,null,null,null,null,{"$f":"VLOOKUP(S23,市町村データ!A2:AX48,MATCH(手順書_人口!$G$55, 市町村データ!A1:AX1, 0),FALSE)","v":5676.19},null,null,null,{"$f":"VLOOKUP(W23,市町村データ!A2:AX48,MATCH(手順書_人口!$G$55, 市町村データ!A1:AX1, 0),FALSE)","v":1876.78},null,null,null,null,null,null,null,{"$f":"VLOOKUP(AE23,市町村データ!A2:AX48,MATCH(手順書_人口!$G$55, 市町村データ!A1:AX1, 0),FALSE)","v":4724.6499999999996},null,null,null,null,null,null,null,{"$f":"VLOOKUP(AM23,市町村データ!A2:AX48,MATCH(手順書_人口!$G$55, 市町村データ!A1:AX1, 0),FALSE)","v":5774.49},null,null,null,{"$f":"VLOOKUP(AQ23,市町村データ!A2:AX48,MATCH(手順書_人口!$G$55, 市町村データ!A1:AX1, 0),FALSE)","v":5173.07},null,null,null,{"$f":"VLOOKUP(AU23,市町村データ!A2:AX48,MATCH(手順書_人口!$G$55, 市町村データ!A1:AX1, 0),FALSE)","v":7777.35},null,null,null,{"$f":"VLOOKUP(AY23,市町村データ!A2:AX48,MATCH(手順書_人口!$G$55, 市町村データ!A1:AX1, 0),FALSE)","v":2416.11},null,null,null,{"$f":"VLOOKUP(BC23,市町村データ!A2:AX48,MATCH(手順書_人口!$G$55, 市町村データ!A1:AX1, 0),FALSE)","v":2194.0300000000002},null,null,null,{"$f":"VLOOKUP(BG23,市町村データ!A2:AX48,MATCH(手順書_人口!$G$55, 市町村データ!A1:AX1, 0),FALSE)","v":5157.57}]
[null,null,"F",null,null,null,46,{"$f":"VLOOKUP(G27,市町村データ!A2:AX48,MATCH(手順書_人口!$H$52, 市町村データ!A1:AX1, 0),FALSE)","v":"熊本"},null,null,42,{"$f":"VLOOKUP(K27,市町村データ!A2:AX48,MATCH(手順書_人口!$H$52, 市町村データ!A1:AX1, 0),FALSE)","v":"宮崎"},null,null,null,null,null,null,38,{"$f":"VLOOKUP(S27,市町村データ!A2:AX48,MATCH(手順書_人口!$H$52, 市町村データ!A1:AX1, 0),FALSE)","v":"高知"},null,null,34,{"$f":"VLOOKUP(W27,市町村データ!A2:AX48,MATCH(手順書_人口!$H$52, 市町村データ!A1:AX1, 0),FALSE)","v":"徳島"}]
[null,null,null,null,null,null,{"$f":"VLOOKUP(G27,市町村データ!A2:AX48,MATCH(手順書_人口!$G$53, 市町村データ!A1:AX1, 0),FALSE)","v":234.6},null,null,null,{"$f":"VLOOKUP(K27,市町村データ!A2:AX48,MATCH(手順書_人口!$G$53, 市町村データ!A1:AX1, 0),FALSE)","v":138.30000000000001},null,null,null,null,null,null,null,{"$f":"VLOOKUP(S27,市町村データ!A2:AX48,MATCH(手順書_人口!$G$53, 市町村データ!A1:AX1, 0),FALSE)","v":97.3},null,null,null,{"$f":"VLOOKUP(W27,市町村データ!A2:AX48,MATCH(手順書_人口!$G$53, 市町村データ!A1:AX1, 0),FALSE)","v":173.5}]
[null,null,null,null,null,null,{"$f":"VLOOKUP(G27,市町村データ!A2:AX48,MATCH(手順書_人口!$G$54, 市町村データ!A1:AX1, 0),FALSE)","v":1738301},null,null,null,{"$f":"VLOOKUP(K27,市町村データ!A2:AX48,MATCH(手順書_人口!$G$54, 市町村データ!A1:AX1, 0),FALSE)","v":1069576},null,null,null,null,null,null,null,{"$f":"VLOOKUP(S27,市町村データ!A2:AX48,MATCH(手順書_人口!$G$54, 市町村データ!A1:AX1, 0),FALSE)","v":691527},null,null,null,{"$f":"VLOOKUP(W27,市町村データ!A2:AX48,MATCH(手順書_人口!$G$54, 市町村データ!A1:AX1, 0),FALSE)","v":719559}]
[null,null,null,null,null,null,{"$f":"VLOOKUP(G27,市町村データ!A2:AX48,MATCH(手順書_人口!$G$55, 市町村データ!A1:AX1, 0),FALSE)","v":7409.46},null,null,null,{"$f":"VLOOKUP(K27,市町村データ!A2:AX48,MATCH(手順書_人口!$G$55, 市町村データ!A1:AX1, 0),FALSE)","v":7735.22},null,null,null,null,null,null,null,{"$f":"VLOOKUP(S27,市町村データ!A2:AX48,MATCH(手順書_人口!$G$55, 市町村データ!A1:AX1, 0),FALSE)","v":7103.63},null,null,null,{"$f":"VLOOKUP(W27,市町村データ!A2:AX48,MATCH(手順書_人口!$G$55, 市町村データ!A1:AX1, 0),FALSE)","v":4146.75}]
[null,null,"G",null,null,null,47,{"$f":"VLOOKUP(G31,市町村データ!A2:AX48,MATCH(手順書_人口!$H$52, 市町村データ!A1:AX1, 0),FALSE)","v":"沖縄"},null,null,43,{"$f":"VLOOKUP(K31,市町村データ!A2:AX48,MATCH(手順書_人口!$H$52, 市町村データ!A1:AX1, 0),FALSE)","v":"鹿児島"}]
[null,null,null,null,null,null,{"$f":"VLOOKUP(G31,市町村データ!A2:AX48,MATCH(手順書_人口!$G$53, 市町村データ!A1:AX1, 0),FALSE)","v":642.9},null,null,null,{"$f":"VLOOKUP(K31,市町村データ!A2:AX48,MATCH(手順書_人口!$G$53, 市町村データ!A1:AX1, 0),FALSE)","v":172.9}]
[null,null,null,null,null,null,{"$f":"VLOOKUP(G31,市町村データ!A2:AX48,MATCH(手順書_人口!$G$54, 市町村データ!A1:AX1, 0),FALSE)","v":1467480},null,null,null,{"$f":"VLOOKUP(K31,市町村データ!A2:AX48,MATCH(手順書_人口!$G$54, 市町村データ!A1:AX1, 0),FALSE)","v":1588256}]
[null,null,null,null,null,null,{"$f":"VLOOKUP(G31,市町村データ!A2:AX48,MATCH(手順書_人口!$G$55, 市町村データ!A1:AX1, 0),FALSE)","v":2282.59},null,null,null,{"$f":"VLOOKUP(K31,市町村データ!A2:AX48,MATCH(手順書_人口!$G$55, 市町村データ!A1:AX1, 0),FALSE)","v":9187.06}]
[null,null,"H"]
[]
[]
[null,"［国勢調査］＞［令和２年国勢調査（総務省統計局）　都道府県・市区町村別の主な結果］"]
[null,"https://www.e-stat.go.jp/stat-search/files?page=1&layout=datalist&toukei=00200521&tstat=000001049104&cycle=0&tclass1=000001049105&tclass2val=0"]